BEGIN:VCALENDAR
VERSION:2.0
PRODID:-//Gratis-in-Berlin//NONSGML kigkonsult.se iCalcreator 2.14//
METHOD:PUBLISH
X-WR-CALNAME:Gratis-in-Berlin Tip Kalender
X-WR-CALDESC:Erhalte Gratis-in-Berlin Tips in deinem Kalender
BEGIN:VEVENT
UID:20260422T101914UTC-9874hlwOw0@Gratis-in-Berlin
DTSTAMP:20260422T101914Z
DESCRIPTION:Wann hatten Sie zuletzt das Gefühl\, dass Ihnen wirklich zugehört wird?
  Alle erhalten bei diesem Treffen gleich viel Redezeit\, hören zu und entwick
 eln Empathie.&nbsp\;Eine Veranstaltung von Mehr Demokratie e.V.\n\nViel Sp
 ass wünscht Gratis-in-Berlin\n\nLink zum Tip: https://www.gratis-in-berlin.de/1
 5-leute-treffen/2077735-sprechen-und-zuhoeren\nZu den Gratis-in-Berlin Ang
 eboten: http://www.gratis-in-berlin.de\n
DTSTART;VALUE=DATE:20260321
DTEND;VALUE=DATE:20260322
SUMMARY:Sprechen und Zuhören
END:VEVENT
END:VCALENDAR
