BEGIN:VCALENDAR
VERSION:2.0
PRODID:-//Gratis-in-Berlin//NONSGML kigkonsult.se iCalcreator 2.14//
METHOD:PUBLISH
X-WR-CALNAME:Gratis-in-Berlin Tip Kalender
X-WR-CALDESC:Erhalte Gratis-in-Berlin Tips in deinem Kalender
BEGIN:VEVENT
UID:20260421T103956UTC-7978kn5s7F@Gratis-in-Berlin
DTSTAMP:20260421T103956Z
DESCRIPTION:In der offenen Handarbeitsgruppe können sich alle mit Freude und I
 nteresse am Nähen\, Stricken\, Häkeln und Sticken treffen um gemeinsam in gemütlich
 er Runde an Ihren Projekten zu arbeiten. Neue Handarbeitsfreund*innen sind
  jederzeit willkommen.Das Angebot ist kostenlos und eine Anmeldung nicht e
 rforderlich.Bitte eigenes Material mitbringen.\n\nViel Spass wünscht Gratis-in-
 Berlin\n\nLink zum Tip: https://www.gratis-in-berlin.de/naechste-monat/ite
 m/2077911-nadel-faden\nZu den Gratis-in-Berlin Angeboten: http://www.grati
 s-in-berlin.de\n
DTSTART;VALUE=DATE:20260516
DTEND;VALUE=DATE:20260517
SUMMARY:Nadel & Faden
END:VEVENT
END:VCALENDAR
