BEGIN:VCALENDAR
VERSION:2.0
PRODID:-//Gratis-in-Berlin//NONSGML kigkonsult.se iCalcreator 2.14//
METHOD:PUBLISH
X-WR-CALNAME:Gratis-in-Berlin Tip Kalender
X-WR-CALDESC:Erhalte Gratis-in-Berlin Tips in deinem Kalender
BEGIN:VEVENT
UID:20260421T133757UTC-4086DHtS3W@Gratis-in-Berlin
DTSTAMP:20260421T133757Z
DESCRIPTION:Dieser interne Fortbildungsworkshop widmet sich dem Zusammenhan
 g zwischen Gesundheit\, Ernährung und dem Älterwerden. Aus einer ganzheitlich
 en Perspektive sprechen wir darüber\, wie sich Ernährungsbedürfnisse im Laufe des Lebe
 ns verändern und wie bewusste Ernährung zum körperlichen und emotionalen Wohlbefi
 nden beitragen kann. Der Workshop lädt zum Austausch von Erfahrungen\, Wisse
 n und Fragen in einer vertrauensvollen Atmosphäre ein\, mit Fokus auf Selbst
 fürsorge.\n\nViel Spass wünscht Gratis-in-Berlin\n\nLink zum Tip: \nZu den Gratis-in
 -Berlin Angeboten: http://www.gratis-in-berlin.de\n
DTSTART;VALUE=DATE:20260423
DTEND;VALUE=DATE:20260424
SUMMARY:Gesundheit und Ernährung im Laufe des Lebens Bewusste Auseinandersetz
 ung mit unserer Ernährung im Älterwerden
END:VEVENT
END:VCALENDAR
