BEGIN:VCALENDAR
VERSION:2.0
PRODID:-//Gratis-in-Berlin//NONSGML kigkonsult.se iCalcreator 2.14//
METHOD:PUBLISH
X-WR-CALNAME:Gratis-in-Berlin Tip Kalender
X-WR-CALDESC:Erhalte Gratis-in-Berlin Tips in deinem Kalender
BEGIN:VEVENT
UID:20260421T120154UTC-2619tuVvPX@Gratis-in-Berlin
DTSTAMP:20260421T120154Z
DESCRIPTION:Anlässlich des Jahrestags der Bücherverbrennung am 10. Mai 1933 sowie 
 der geplanten Umbenennung des Blücherplatzes in Eva-Mamlok-Platz erinnern das R
 echerche-Netzwerk Gruppe Eva Mamlok und die Initiative UpStadt e. V. an de
 n Mut junger Frauen im Kampf gegen den Faschismus.In einem Vortag werden d
 ie historischen Begebenheiten vorgestellt und eine neue Initiative für einen Or
 t der Demokratiebildung auf dem Dragonerareal in Kreuzberg präsentiert.© Upst
 adt e.V.\n\nViel Spass wünscht Gratis-in-Berlin\n\nLink zum Tip: \nZu den Grati
 s-in-Berlin Angeboten: http://www.gratis-in-berlin.de\n
DTSTART;VALUE=DATE:20260510
DTEND;VALUE=DATE:20260511
SUMMARY:Utopisches Erinnern - Die Gruppe Eva Mamlok
END:VEVENT
END:VCALENDAR
