BEGIN:VCALENDAR
VERSION:2.0
PRODID:-//Gratis-in-Berlin//NONSGML kigkonsult.se iCalcreator 2.14//
METHOD:PUBLISH
X-WR-CALNAME:Gratis-in-Berlin Tip Kalender
X-WR-CALDESC:Erhalte Gratis-in-Berlin Tips in deinem Kalender
BEGIN:VEVENT
UID:20260421T104034UTC-8950mp1Fwb@Gratis-in-Berlin
DTSTAMP:20260421T104034Z
DESCRIPTION:Wir feiern den Frühling mit einem Zeichen für gelebte Nachbarschaft und n
 achhaltigen Konsum: Der Flohmarkt ist unser Highlight. Angeboten wird Gebr
 auchtes von ?A? wie Album bis ?Z? wie Zelt!Stöbert durch bunte Stände und kommt
  mit euren Nachbar:innen und lokalen Initiativen ins Gespräch. Ein kleiner I
 mbiss erwartet euch ebenso. Wir freuen uns auf euch!Tel.: 030 45005 131sta
 dtteilzentrum@pgssoziales.deStandanmeldung telefonisch\, per E-Mail oder p
 ersönlich am Info-Punkt von 30.03. bis 20.04.20265? Standgebühr\, bitte einen eige
 nen Tisch mitbringen.Keine Parkplätze verfügbar.Das Zukunftshaus ist zum Teilbarr
 ierefrei ? sprich uns an.\n\nViel Spass wünscht Gratis-in-Berlin\n\nLink zum Ti
 p: https://www.gratis-in-berlin.de/leute-treffen/item/2078062-nachbarschaf
 ts-flohmarkt\nZu den Gratis-in-Berlin Angeboten: http://www.gratis-in-berl
 in.de\n
DTSTART;VALUE=DATE:20260425
DTEND;VALUE=DATE:20260426
SUMMARY:Nachbarschafts-Flohmarkt 
END:VEVENT
END:VCALENDAR
