BEGIN:VCALENDAR
VERSION:2.0
PRODID:-//Gratis-in-Berlin//NONSGML kigkonsult.se iCalcreator 2.14//
METHOD:PUBLISH
X-WR-CALNAME:Gratis-in-Berlin Tip Kalender
X-WR-CALDESC:Erhalte Gratis-in-Berlin Tips in deinem Kalender
BEGIN:VEVENT
UID:20260419T232629UTC-7886grZLvr@Gratis-in-Berlin
DTSTAMP:20260419T232629Z
DESCRIPTION:Die meditave Besinnung ist eine Form\, die helfen kann\, uns vo
 m Lärm des Alltags abzuwenden. Durch sie ermöglichen wir den Raum\, der so notw
 endig ist\, um in die Stille einzutauchen.Während der Besinnung werden durch
  ausgewählte Textpassagen aus der Rosenkreuzerlehre geistige Impulse gesetzt
 . Wir wollen Sie auf eine Reise in den Urgrund des menschlichen Seins mitn
 ehmen\, auf die Suche nach dem inneren Menschen\, der als ein Samenkorn in
  jeden von uns gelegt ist.Wir freuen uns\, wenn wir Ihr Interesse geweckt 
 haben und laden Sie herzlich ein\, an dieser Veranstaltung\, die wir als G
 ruppe gemeinsam in unserem Tempel erleben werden\, teilzunehmen.\n\nViel S
 pass wünscht Gratis-in-Berlin\n\nLink zum Tip: https://www.gratis-in-berlin.de/
 leute-treffen/item/2078193-meditative-besinnung\nZu den Gratis-in-Berlin A
 ngeboten: http://www.gratis-in-berlin.de\n
DTSTART;VALUE=DATE:20260419
DTEND;VALUE=DATE:20260420
SUMMARY:Meditative Besinnung
END:VEVENT
END:VCALENDAR
