BEGIN:VCALENDAR
VERSION:2.0
PRODID:-//Gratis-in-Berlin//NONSGML kigkonsult.se iCalcreator 2.14//
METHOD:PUBLISH
X-WR-CALNAME:Gratis-in-Berlin Tip Kalender
X-WR-CALDESC:Erhalte Gratis-in-Berlin Tips in deinem Kalender
BEGIN:VEVENT
UID:20260422T042305UTC-47423ZAAsp@Gratis-in-Berlin
DTSTAMP:20260422T042305Z
DESCRIPTION:Heute von 17-19 Uhr in der Heinrich-Schulz-Bibliothek (Gruppenr
 aum) im Rathaus Charlottenburg (U7 Richard Wagner-Platz):Gesprächskreis ohne
  GesprächsthemaWas immer du mit anderen teilen möchtest\, ist hier willkommen.E
 in offener Raum fürZuhören\,Gehörfinden\,Selbstbeobachtungund das Erleben von Geme
 inschaft.Ohne vorgegebenes Thema sitzen wir im Kreis. Wer den Redestab in 
 den Händen hält\, spricht\, alle anderen hören zu. Mal kreist der Stab mit/ohne Z
 eitvorgabe im Uhrzeigersinn\, mal liegt er in der Mitte und Du kannst ihn 
 nehmen\, wenn Du den Impuls dazu hast. Wesentliches kann gesagt werden und
  Vertrauen entstehen.Die Teilnahme ist kostenlos.\n\nViel Spass wünscht Gratis-
 in-Berlin\n\nLink zum Tip: \nZu den Gratis-in-Berlin Angeboten: http://www
 .gratis-in-berlin.de\n
DTSTART;VALUE=DATE:20260422
DTEND;VALUE=DATE:20260423
SUMMARY:'Zuhör-Raum' in der Bibliothek
END:VEVENT
END:VCALENDAR
