BEGIN:VCALENDAR
VERSION:2.0
PRODID:-//Gratis-in-Berlin//NONSGML kigkonsult.se iCalcreator 2.14//
METHOD:PUBLISH
X-WR-CALNAME:Gratis-in-Berlin Tip Kalender
X-WR-CALDESC:Erhalte Gratis-in-Berlin Tips in deinem Kalender
BEGIN:VEVENT
UID:20260421T090940UTC-4339m6ODdI@Gratis-in-Berlin
DTSTAMP:20260421T090940Z
DESCRIPTION:Die Demenzfreundliche Kommune Reinickendorf lädt herzlich ein zum
  Spaziergang in Wittenau mit anschließenden Kaffeetrinken für Menschen mit Demen
 z und ihre AngehörigenWir machen zusammen einen gemütlichen Spaziergang (je nach e
 igenen Möglichkeiten) durch Wittenau und stärken uns anschließend bei Kaffee und
  Kuchen im Hermann-Ehlers-Haus.Auch Rollstuhl-Fahrer*innen sind herzlich w
 illkommen.Der Spaziergang inkl. Kaffeetrinken ist kostenlos.Um Anmeldung w
 ird gebeten. Bitte geben Sie bei der Anmeldung auch an\, ob Sie Unterstützung b
 eim Schieben des Rollstuhls benötigen.Zeit: Dienstag\, 05.Mai 2026 | 14 bis 1
 7 UhrTreffpunkt: 14 Uhr vor dem Rathaus Reinickendorf | Eichborndamm 215 |
  13437 BerlinInformationen &amp\; Anmeldung:Pflegestützpunkt Reinickendorf | Te
 l. 030 - 498 72 404 | Email: maerkischesviertel@pspberlin.de\n\nViel Spass
  wünscht Gratis-in-Berlin\n\nLink zum Tip: \nZu den Gratis-in-Berlin Angeboten:
  http://www.gratis-in-berlin.de\n
DTSTART;VALUE=DATE:20260505
DTEND;VALUE=DATE:20260506
SUMMARY:Spaziergang in Wittenau für Menschen mit Demenz & deren Angehörige
END:VEVENT
END:VCALENDAR
