BEGIN:VCALENDAR
VERSION:2.0
PRODID:-//Gratis-in-Berlin//NONSGML kigkonsult.se iCalcreator 2.14//
METHOD:PUBLISH
X-WR-CALNAME:Gratis-in-Berlin Tip Kalender
X-WR-CALDESC:Erhalte Gratis-in-Berlin Tips in deinem Kalender
BEGIN:VEVENT
UID:20260421T133829UTC-1899LhMUbk@Gratis-in-Berlin
DTSTAMP:20260421T133829Z
DESCRIPTION:Offene Sprechstunde für alle\, die Nachhilfe für Computer\, Handy use. br
 auchen.Kostenfrei und ohne Anmeldung.\n\nViel Spass wünscht Gratis-in-Berlin\n
 \nLink zum Tip: \nZu den Gratis-in-Berlin Angeboten: http://www.gratis-in-
 berlin.de\n
DTSTART;VALUE=DATE:20260427
DTEND;VALUE=DATE:20260428
SUMMARY:Offene Sprechstunde: Digitalität im Alltag
END:VEVENT
END:VCALENDAR
