BEGIN:VCALENDAR
VERSION:2.0
PRODID:-//Gratis-in-Berlin//NONSGML kigkonsult.se iCalcreator 2.14//
METHOD:PUBLISH
X-WR-CALNAME:Gratis-in-Berlin Tip Kalender
X-WR-CALDESC:Erhalte Gratis-in-Berlin Tips in deinem Kalender
BEGIN:VEVENT
UID:20260421T104016UTC-1459iEsu60@Gratis-in-Berlin
DTSTAMP:20260421T104016Z
DESCRIPTION:An jedem Termin beschäftigen wir uns mit einer anderen Frage. Mit
  Impulsen\, kleinen Übungen\, Gesprächen nähern wir uns den zentralen Themen de
 s Lebens. Dieses Mal ist das Thema ?Abschied und Trauer in meinem Leben?.E
 infach vorbei schauen und gerne auch Wünsche für weitere Themen mitbringen. Zeit: Mo
 ntag\, 27.4.2026\, 15 bis 18 Uhr in Raum 4.02&nbsp\;\nOrt: Nachbarschaftsh
 aus Friedenau\, Holsteinische Str. 30\, 12161 Berlin Bitte anmelden unter:
  kultur-cafe@nbhs.de\n\nViel Spass wünscht Gratis-in-Berlin\n\nLink zum Tip: ht
 tps://www.gratis-in-berlin.de/aktueller-monat/item/2078341-biografiesalon
 \nZu den Gratis-in-Berlin Angeboten: http://www.gratis-in-berlin.de\n
DTSTART;VALUE=DATE:20260427
DTEND;VALUE=DATE:20260428
SUMMARY:Biografiesalon
END:VEVENT
END:VCALENDAR
