BEGIN:VCALENDAR
VERSION:2.0
PRODID:-//Gratis-in-Berlin//NONSGML kigkonsult.se iCalcreator 2.14//
METHOD:PUBLISH
X-WR-CALNAME:Gratis-in-Berlin Tip Kalender
X-WR-CALDESC:Erhalte Gratis-in-Berlin Tips in deinem Kalender
BEGIN:VEVENT
UID:20260421T170034UTC-8058T4aXN2@Gratis-in-Berlin
DTSTAMP:20260421T170034Z
DESCRIPTION:Wir tauschen Klamotten in der Wolfdietrich-Schnurre-Bibliothek!
 So funktionierts:- Bitte anmelden - Nur mit mehreren Teilnehmenden findet 
 es statt- Bitte nicht mehr als 20 Kleidungsstücke pro Teilnehmer*in- es stehen 
 Tische zur Verfügung- Bitte bringt die Kleidung frisch gewaschen und in gut erh
 altenem Zustand mit- alle nicht getauschten Sachen müssen wieder mit nach Hause
  genommen werdenAnmelden könnt ihr euch unter (030) 90295 3867\, wolfdietrich
 -schnurre-bibliothek@ba-pankow.berlin.de oder direkt bei uns in der Biblio
 thek an der Servicetheke.Wir freuen uns auf euch!\n\nViel Spass wünscht Gratis-
 in-Berlin\n\nLink zum Tip: \nZu den Gratis-in-Berlin Angeboten: http://www
 .gratis-in-berlin.de\n
DTSTART;VALUE=DATE:20260428
DTEND;VALUE=DATE:20260429
SUMMARY:Kleider-Tauschbörse in der Wolfdietrich Schnurre Bibliothek
END:VEVENT
END:VCALENDAR
