BEGIN:VCALENDAR
VERSION:2.0
PRODID:-//Gratis-in-Berlin//NONSGML kigkonsult.se iCalcreator 2.14//
METHOD:PUBLISH
X-WR-CALNAME:Gratis-in-Berlin Tip Kalender
X-WR-CALDESC:Erhalte Gratis-in-Berlin Tips in deinem Kalender
BEGIN:VEVENT
UID:20260421T090934UTC-4507I6PWp8@Gratis-in-Berlin
DTSTAMP:20260421T090934Z
DESCRIPTION:Wir tauschen Spielzeug in der Wolfdietrich-Schnurre-Bibliothek!
 So funktionierts:- Bitte anmelden - Nur mit mehreren Teilnehmenden findet 
 es statt- Bitte nicht mehr als 20 Sachen pro Teilnehmer*in- es stehen Tisc
 he zur Verfügung- Bitte bringt die Sachen in gutem Zustand mit- alle nicht geta
 uschten Sachen müssen wieder mit nach Hause genommen werdenAnmelden könnt ihr euch
  unter (030) 90295 3867\, wolfdietrich-schnurre-bibliothek@ba-pankow.berli
 n.de oder direkt bei uns in der Bibliothek an der Servicetheke.Wir freuen 
 uns auf euch!\n\nViel Spass wünscht Gratis-in-Berlin\n\nLink zum Tip: \nZu den 
 Gratis-in-Berlin Angeboten: http://www.gratis-in-berlin.de\n
DTSTART;VALUE=DATE:20260428
DTEND;VALUE=DATE:20260429
SUMMARY:Spielzeug-Tauschbörse in er Wolfdietrich Schnurrre Biblb
END:VEVENT
END:VCALENDAR
