BEGIN:VCALENDAR
VERSION:2.0
PRODID:-//Gratis-in-Berlin//NONSGML kigkonsult.se iCalcreator 2.14//
METHOD:PUBLISH
X-WR-CALNAME:Gratis-in-Berlin Tip Kalender
X-WR-CALDESC:Erhalte Gratis-in-Berlin Tips in deinem Kalender
BEGIN:VEVENT
UID:20260420T132019UTC-9950pj9R8e@Gratis-in-Berlin
DTSTAMP:20260420T132019Z
DESCRIPTION:?Wir organisieren einen Art Space!?Damit wir für den NOlympia-Auftak
 t am 22. April und die FFF-Demo gegen den Abbau der Energiewende am 24. Ap
 ril gut gerüstet sind\, wollen wir den Raum öffnen\, um gemeinsam bunte Schilder u
 nd Plakate zu basteln.Pappen \n\nViel Spass wünscht Gratis-in-Berlin\n\nLink zu
 m Tip: \nZu den Gratis-in-Berlin Angeboten: http://www.gratis-in-berlin.de
 \n
DTSTART;VALUE=DATE:20260420
DTEND;VALUE=DATE:20260421
SUMMARY:? Art Space! ? - gemeinsam Plakate malen für FridaysForFuture und NOlymp
 ia Demos 
END:VEVENT
END:VCALENDAR
