BEGIN:VCALENDAR
VERSION:2.0
PRODID:-//Gratis-in-Berlin//NONSGML kigkonsult.se iCalcreator 2.14//
METHOD:PUBLISH
X-WR-CALNAME:Gratis-in-Berlin Tip Kalender
X-WR-CALDESC:Erhalte Gratis-in-Berlin Tips in deinem Kalender
BEGIN:VEVENT
UID:20260420T141826UTC-4562fSNTrI@Gratis-in-Berlin
DTSTAMP:20260420T141826Z
DESCRIPTION:Spitzt die Stifte und zückt die Zettel ? denn: Heute veranstaltet da
 s Mittwochs-Café einen legendären Bingo-Abend im RegenbogenCafé! Auf euch warten
  spannende Preise\, leckerer Kuchen und prickelnde Getränke!Endlich wieder g
 ebannt zuhören\, wie die Zahlen\, die die Welt bedeuten\, von schönen Stimmen zi
 tiert werden\, um euch in überschwinglicher Freude das beste Wort der Welt rufe
 n zu lassen: BINGO! Alle Einnahmen werden für solidarische Zwecke gespendet\; a
 lso macht das ganze Spektakel noch mehr Freude :). Ab 18:30 gehts los\, wi
 r freuen uns auf euch! Euer MiCa *************** Chers passionnés de bingo*\
 , taillez vos crayons et sortez vos bulletins: Aujourd´hui\, le Café du mercr
 edi organise une soirée bingo légendaire au RegenbogenCafé! Des prix passionnant
 s\, de délicieux gâteaux et des boissons pétillantes vous attendent !Enfin\, vou
 s pourrez à nouveau écouter\, captivés\, les chiffres qui font le monde être cités p
 ar de belles voix pour vous faire crier\, dans une joie exubérante\, le meil
 leur mot du monde:BINGO ! Tous les bénéfices seront reversés à des ?uvres solida
 ires\, le spectacle n?en sera que plus joyeux :). A partir de 18:30h\, nou
 s vous attendons avec impatience! Votre MiCa\n\nViel Spass wünscht Gratis-in-Be
 rlin\n\nLink zum Tip: \nZu den Gratis-in-Berlin Angeboten: http://www.grat
 is-in-berlin.de\n
DTSTART;VALUE=DATE:20260422
DTEND;VALUE=DATE:20260423
SUMMARY:'Bingo Bingo Bingo (Soli-Edition)' - im RegenbogenCafé
END:VEVENT
END:VCALENDAR
