BEGIN:VCALENDAR
VERSION:2.0
PRODID:-//Gratis-in-Berlin//NONSGML kigkonsult.se iCalcreator 2.14//
METHOD:PUBLISH
X-WR-CALNAME:Gratis-in-Berlin Tip Kalender
X-WR-CALDESC:Erhalte Gratis-in-Berlin Tips in deinem Kalender
BEGIN:VEVENT
UID:20260421T120208UTC-3212P3Hjn8@Gratis-in-Berlin
DTSTAMP:20260421T120208Z
DESCRIPTION:DruckenWie gut kennen Sie Ihren Kiez ? und die Geschichten dahi
 nter? Die Gedenkstätte Berliner Mauer an der Bernauer Straße ist ein Erinneru
 ngsort von internationaler Bedeutung. Doch wie sieht die unmittelbare Nach
 barschaft den Ort heute? Welche persönlichen Erinnerungen sind noch lebendig 
 ? und welche bislang unentdeckten Spuren warten darauf\, neu entdeckt zu w
 erden? Wir laden alle Nachbarinnen und Nachbarn herzlich ein\, diesen beso
 nderen Ort aus einer neuen Perspektive kennenzulernen: Bei einer exklusive
 n Führung mit einer Kuratorin der Stiftung erhalten Sie zunächst Einblicke in die
  vielfältigen Geschichten rund um das Leben mit der Mauer in Ost- und West-B
 erlin aus der Perspektive der Gedenkstätte und dann sind Sie dran.Dafür laden wir
  im Anschluss in unser neues Studio ein. In entspannter Atmosphäre ? inspiri
 ert von der türkischen Teekultur ? kommen wir miteinander ins Gespräch und lernen
  uns als Nachbarschaft und vielleicht die eine oder andere Anekdote über bewegt
 e Zeiten des Ortes besser kennen. Seien Sie dabei und entdecken Sie Ihren 
 Kiez und Ihre Nachbarschaft nochmal mit uns neu!\n\nViel Spass wünscht Gratis-i
 n-Berlin\n\nLink zum Tip: \nZu den Gratis-in-Berlin Angeboten: http://www.
 gratis-in-berlin.de\n
DTSTART;VALUE=DATE:20260529
DTEND;VALUE=DATE:20260530
SUMMARY:Kiezgeschichten ? Die Bernauer Straße neu entdecken
END:VEVENT
END:VCALENDAR
