BEGIN:VCALENDAR
VERSION:2.0
PRODID:-//Gratis-in-Berlin//NONSGML kigkonsult.se iCalcreator 2.14//
METHOD:PUBLISH
X-WR-CALNAME:Gratis-in-Berlin Tip Kalender
X-WR-CALDESC:Erhalte Gratis-in-Berlin Tips in deinem Kalender
BEGIN:VEVENT
UID:20260424T112541UTC-5703haZakw@Gratis-in-Berlin
DTSTAMP:20260424T112541Z
DESCRIPTION:Komm vorbei und starte die Woche mit einem leichten Abend\, der
  dir einen Energy-Boost für die Woche bringt :) Meet &amp\; Greet in kleiner Ru
 nde\, in English and German - internationals welcome :) To get an energy b
 oost for the week! No skills needed. Easy\, comfortable clothes - no dress
  code. Come as you are.&nbsp\;&nbsp\;See full description on Eventbrite\, 
 type: OFF THE RECORD AFTERWORK&nbsp\;&nbsp\;Free tickets - subject to avai
 lability.&nbsp\;Der etwas andere Afterwork\, für gute Laune\, Spaß und Kennenler
 nen.&nbsp\;&nbsp\;Where: CI Space Berlin Moabit&nbsp\;Doors open: 18h30&nb
 sp\;Program: 19-21h&nbsp\; --&gt\; guided evening with fun activities to m
 eet &amp\; greet and get inspired.&nbsp\;See you\,Belinda&nbsp\;PS: Bring 
 your friends along : )\n\nViel Spass wünscht Gratis-in-Berlin\n\nLink zum Tip: 
 \nZu den Gratis-in-Berlin Angeboten: http://www.gratis-in-berlin.de\n
DTSTART;VALUE=DATE:20260427
DTEND;VALUE=DATE:20260428
SUMMARY:Afterwork 'Off the Record' - Playful meet & greet (Englisch/Deutsch
 )
END:VEVENT
END:VCALENDAR
