BEGIN:VCALENDAR
VERSION:2.0
PRODID:-//Gratis-in-Berlin//NONSGML kigkonsult.se iCalcreator 2.14//
METHOD:PUBLISH
X-WR-CALNAME:Gratis-in-Berlin Tip Kalender
X-WR-CALDESC:Erhalte Gratis-in-Berlin Tips in deinem Kalender
BEGIN:VEVENT
UID:20260425T033911UTC-4669XUa8fk@Gratis-in-Berlin
DTSTAMP:20260425T033911Z
DESCRIPTION:Das größte Kaffeekränzchen Deutschlands für ein Bedingungsloses Grundeink
 ommen für Rentner*innen\, mit Gratis Kaffee &amp\; Kuchen:Gemeinsam zeigen wir:
  Alle haben ein Recht auf ein Stück vom Kuchen ? und auf eine sichere Rente. Ko
 mm zur Bundestagswiese und setz mit uns ein Zeichen!BundestagswieseDiensta
 g\, 28. April14:00 bis 17:00 UhrViele Menschen arbeiten ein Leben lang\, s
 ei es in Erwerbsarbeit\, in Teilzeit\, in Sorgearbeit ? und haben im Alter
  trotzdem zu wenig Geld. Die Rente reicht schlicht nicht aus. Das betrifft
  nicht irgendwen\, sondern unsere Eltern\, unsere Großeltern\, früher oder später 
 auch dich.Das Rentensystem wird immer komplizierter und teurer ? und liefe
 rt gleichzeitig nicht die Sicherheit\, die es eigentlich geben sollte. Das
  ist kein Zufall\, sondern Ergebnis von politischen Entscheidungen. Wir fi
 nden: Das darf so nicht bleiben.Gerade entscheidet eine Rentenkommission d
 arüber\, wie die Zukunft der Rente aussieht. Deswegen wollen wir zeigen\, dass 
 es auch anders geht. Unsere Forderung: Ein Grundeinkommen für Rentner*innen\, d
 amit alle mindestens 1.200 Euro haben.Komm vorbei\, bring Freund*innen\, E
 ltern oder Großeltern mit und setz mit uns ein Zeichen. Weil allen ein Stück vom
  Kuchen zusteht!\n\nViel Spass wünscht Gratis-in-Berlin\n\nLink zum Tip: \nZu d
 en Gratis-in-Berlin Angeboten: http://www.gratis-in-berlin.de\n
DTSTART;VALUE=DATE:20260428
DTEND;VALUE=DATE:20260429
SUMMARY:Das größte Kaffeekränzchen Deutschlands für ein Bedingungsloses Grundeinkomme
 n für Rentner*innen\, mit Gratis Kaffee & Kuchen
END:VEVENT
END:VCALENDAR
