BEGIN:VCALENDAR
VERSION:2.0
PRODID:-//Gratis-in-Berlin//NONSGML kigkonsult.se iCalcreator 2.14//
METHOD:PUBLISH
X-WR-CALNAME:Gratis-in-Berlin Tip Kalender
X-WR-CALDESC:Erhalte Gratis-in-Berlin Tips in deinem Kalender
BEGIN:VEVENT
UID:20260422T101548UTC-29344M3rvT@Gratis-in-Berlin
DTSTAMP:20260422T101548Z
DESCRIPTION:CrossKultur = Veranstaltungen (Filme\, Lesungen\, Theater\, Kon
 zerte\, Führungen\, Ausstellungen etc.)\, die Schlagworten wie 'Multikultur\, I
 nterkultur\, Transkultur' Leben verleihen und&nbsp\; Verbindungen schaffen
 . Über 40 Veranstaltungen an 15 Orten in Tempelhof-Schöneberg mit lokalen Akte
 uren aus dem Bezirk\, Bildungs- und Kultureinrichtungen und Künstlern aus versc
 hiedensten Bereichen\, einiges davon findet auch im Rathaus Schöneberg statt.
  Eintritt frei. Programm siehe Website.\n\nViel Spass wünscht Gratis-in-Berlin
 \n\nLink zum Tip: https://www.gratis-in-berlin.de/international/item/20080
 78-crosskultur-festival\nZu den Gratis-in-Berlin Angeboten: http://www.gra
 tis-in-berlin.de\n
DTSTART;VALUE=DATE:20231117
DTEND;VALUE=DATE:20231218
SUMMARY:CrossKultur Festival
END:VEVENT
END:VCALENDAR
