BEGIN:VCALENDAR
VERSION:2.0
PRODID:-//Gratis-in-Berlin//NONSGML kigkonsult.se iCalcreator 2.14//
METHOD:PUBLISH
X-WR-CALNAME:Gratis-in-Berlin Tip Kalender
X-WR-CALDESC:Erhalte Gratis-in-Berlin Tips in deinem Kalender
BEGIN:VEVENT
UID:20260424T100016UTC-6577vs1DdU@Gratis-in-Berlin
DTSTAMP:20260424T100016Z
DESCRIPTION:Welche Unterschiede gibt es in der Bestattungsritualen des Chri
 stentums\, des Islam und des Judentums. Aufgrund welcher religiöser Gegebenhe
 iten gibt es diese Unterschiede. Gibt es Dinge\, die wir voneinander lerne
 n können? Warum wird oft immer noch Religionszugehörigkeit getrennt bestattet? H
 intergrund: Seit dem letzten Jahr ist es möglich\, dass auf dem Neuen Zwölf-Apos
 tel-Kirchhof Bestattungen nach muslimischem Ritus durchgeführt werden.Teilnehme
 r des Podiums: Olaf Hansen (Pfarrer Königin-Luise Gemeinde)\, Isikali Karayel
  (muslimischer Bestatter) Chasan Jalda Rebling (für die jüdische Religionsgemeinscha
 ft) Abdurrahim Gülec (Semerkand Glaubens- und Kulturzentrum e.V.\, Netzwerk der
  Religionen)\, Moderation: Bertram von BoxbergOrt: Kapelle Alter Zwölf-Aposte
 l-Kirchhof\, Kolonnenstraße 24-25\, 10829 Berlin - Schöneberg. S-1 Julius-Lebe
 r-Brücke\n\nViel Spass wünscht Gratis-in-Berlin\n\nLink zum Tip: \nZu den Gratis-in-
 Berlin Angeboten: http://www.gratis-in-berlin.de\n
DTSTART;VALUE=DATE:20170525
DTEND;VALUE=DATE:20170526
SUMMARY:Bestattungsrituale der drei großen Weltreligionen -  Podium mit ansc
 hließendem Werkstattgespräch 
END:VEVENT
END:VCALENDAR
