BEGIN:VCALENDAR
VERSION:2.0
PRODID:-//Gratis-in-Berlin//NONSGML kigkonsult.se iCalcreator 2.14//
METHOD:PUBLISH
X-WR-CALNAME:Gratis-in-Berlin Tip Kalender
X-WR-CALDESC:Erhalte Gratis-in-Berlin Tips in deinem Kalender
BEGIN:VEVENT
UID:20260422T153259UTC-57496lx1Hl@Gratis-in-Berlin
DTSTAMP:20260422T153259Z
DESCRIPTION:#STORYFORFOOD ? CINEMAWe tour Berlin to record undocumented sto
 ries - personal and fictitious.On Thursdays (19-22h) we are at the lovely 
 IL KINO (Nansenstraße 22\, 12047 Neukölln) and we heartily welcome any storyte
 ller and any story lover ..We offer one reduced cinema ticket (for the fil
 ms @20h and @22h) for every story!If you have a story to share or if you a
 re just curious about the SFF initiative - come by!&gt\;&gt\; REMEMBER: It
  is not an open mic. It is a private recording of your story and an introd
 uction to the STORY FOR FOOD initiative.? The stories can be of any length
 \, of any theme and in any language.More info: https://www.storyforfood.co
 m/eventshttps://www.youtube.com/watch?v=-hMwbB6dlTc#sff\, #storyforfoodAnm
 erkung Redaktion: War für jeden Dienstag eingestellt\, keine Reaktion auf Komme
 ntar.\n\nViel Spass wünscht Gratis-in-Berlin\n\nLink zum Tip: https://www.grati
 s-in-berlin.de/kalender/item/2031411-storyforfood-cinema\nZu den Gratis-in
 -Berlin Angeboten: http://www.gratis-in-berlin.de\n
DTSTART;VALUE=DATE:20170525
DTEND;VALUE=DATE:20170526
SUMMARY:#STORYFORFOOD ? CINEMA
END:VEVENT
END:VCALENDAR
