BEGIN:VCALENDAR
VERSION:2.0
PRODID:-//Gratis-in-Berlin//NONSGML kigkonsult.se iCalcreator 2.14//
METHOD:PUBLISH
X-WR-CALNAME:Gratis-in-Berlin Tip Kalender
X-WR-CALDESC:Erhalte Gratis-in-Berlin Tips in deinem Kalender
BEGIN:VEVENT
UID:20260420T130255UTC-8829c8hjzv@Gratis-in-Berlin
DTSTAMP:20260420T130255Z
DESCRIPTION:Nadiya Slyesaryeva musste während des Zweiten Weltkriegs im Deuts
 chen Reich Zwangsarbeit leisten. 80 Jahre später flieht sie vor dem russisch
 en Angriffskrieg von Kiew nach Deutschland.Den deutschen Einmarsch in die 
 Sowjetunion erlebte die Zeitzeugin in Dnipropetrovsk. Mit ihrer Familie wu
 rde sie in das KZ Stutthof (bei Danzig) verschleppt\, von dort weiter nach
  Berlin. Als ihr Zug in die Stadt einfuhr\, erlebte sie einen schweren Luf
 tangriff - eingeschlossen im Waggon.\nFrau Slyesaryeva musste bei einer Fl
 iesenfabrik in Stettin arbeiten. Gegen Kriegsende wurde sie nach Neubrande
 nburg verlegt\, um dort schwere körperliche Arbeit auf einem Bauernhof zu ver
 richten. Nach der Befreiung ging Nadiya Slyesaryeva erst nach Polen und ke
 hrte 1948 in die Sowjetunion zurück.Begrüßung: Eva Kuby\nPädagogische Mitarbeiterin\, 
 Dokumentationszentrum NS-Zwangsarbeit\nEinführung &amp\; Moderation: Hanna Lehu
 n\nOsteuropa-Expertin\, wissenschaftliche Mitarbeiterin der Arolsen Archiv
 es\nZeitzeugin: Nadiya Slyesaryeva\nGeb. 1930\, studierte Bauingenieurin\,
  wirkte am Wiederaufbau des Donbas mit und entwarf zahlreiche Straßen und G
 ebäude in Kyjiw\nDas Gespräch mit der Zeitzeugin findet auf Ukrainisch statt u
 nd wird simultan ins Deutsche übersetzt.\n\nViel Spass wünscht Gratis-in-Berlin\n\nL
 ink zum Tip: \nZu den Gratis-in-Berlin Angeboten: http://www.gratis-in-ber
 lin.de\n
DTSTART;VALUE=DATE:20231127
DTEND;VALUE=DATE:20231128
SUMMARY:Nadiya Slyesaryeva | Als ukrainische Zwangsarbeiterin in NS-Deutsch
 land 
END:VEVENT
END:VCALENDAR
