BEGIN:VCALENDAR
VERSION:2.0
PRODID:-//Gratis-in-Berlin//NONSGML kigkonsult.se iCalcreator 2.14//
METHOD:PUBLISH
X-WR-CALNAME:Gratis-in-Berlin Tip Kalender
X-WR-CALDESC:Erhalte Gratis-in-Berlin Tips in deinem Kalender
BEGIN:VEVENT
UID:20260420T173904UTC-7847embUNu@Gratis-in-Berlin
DTSTAMP:20260420T173904Z
DESCRIPTION:Tauchen Sie ein in die faszinierende Welt des Heimatbegriffs be
 im DRK kulturTür Salon! Wir laden Sie herzlich ein\, an diesem interaktiven Eve
 nt teilzunehmen\, bei dem Menschen verschiedener Kulturen zusammenkommen\,
  um das Thema 'Was ist Heimat?' zu erkunden. Freuen Sie sich auf ein abwec
 hslungsreiches Programm\, das Ihnen eine Vielzahl von Perspektiven und Erf
 ahrungen bietet. Der DRK kulturTür Salon versteht sich als Ort des kulturellen 
 und sozialen Austauschs\, der Menschen zusammenbringt und das gegenseitige
  Verständnis zwischen den Kulturen fördert. Angesichts einer Welt\, die heutzut
 age mehr denn je von Vorurteilen\, Stereotypen und Misstrauen geprägt ist\, 
 sowie vor dem Hintergrund aktueller Herausforderungen im Bereich Migration
  und Integration\, ist es von größter Bedeutung\, Menschen zusammenzubringen.
  Diese Veranstaltung konzentriert sich auf das tiefgreifende Thema 'Was is
 t Heimat?' und bietet ein abwechslungsreiches Programm\, das die Vielfalt 
 dieses Begriffs in all ihren Facetten beleuchtet. Das Programm umfasst:Bei
 träge vom DRK kulturTür-Team: Unsere engagierten Teammitglieder werden ihre persönli
 chen Geschichten und Perspektiven zu Heimat mit Ihnen teilen. Lassen Sie s
 ich inspirieren und erleben Sie aus erster Hand die verschiedenen Facetten
  des Heimatbegriffs. Von bewegenden Erlebnissen bis hin zu überraschenden Einsi
 chten - diese Beiträge werden Ihre Sichtweise erweitern und zum Nachdenken a
 nregen.Diskussionsrunden: Nehmen Sie aktiv teil und teilen Sie Ihre eigene
 n Erfahrungen und Ansichten zum Thema Heimat in unseren Diskussionsrunden.
  Tauchen Sie ein in einen offenen Austausch\, der neue Erkenntnisse und Ve
 rbindungen schafft.Musik: Genießen Sie die Vielfalt der kulturellen Ausdruc
 ksformen durch musikalische Darbietungen unserer talentierten Musiker. Spüren S
 ie die universelle Sprache der Musik\, die uns alle verbindet.Videovorstel
 lungen: Die visuellen Geschichten der DRK kulturTÜR nehmen Sie mit auf eine
  Reise durch verschiedene Kulturen.Seien Sie dabei und erleben Sie einen u
 nvergesslichen Abend voller Inspiration\, Austausch und kultureller Vielfa
 lt. Wann?: 27. November 2023\, 17:00 bis 19:00 Uhr Wo: Nahe Rathaus Stegli
 tz\, Ort wird nach Anmeldung via office@drk-berlin.net bekannt gegeben Der
  Eintritt ist frei. Wir freuen uns darauf\, Sie bei dieser spannenden Vera
 nstaltung begrüßen zu dürfen! Dieses Projekt wird unterstützt vom bezirklichen Integratio
 nsfonds Steglitz-Zehlendorf. Der Integrationsfonds ist Teil des 'Gesamtkon
 zepts zur Integration und Partizipation Geflüchteter' des Senats von Berlin\n\n
 Viel Spass wünscht Gratis-in-Berlin\n\nLink zum Tip: \nZu den Gratis-in-Berlin 
 Angeboten: http://www.gratis-in-berlin.de\n
DTSTART;VALUE=DATE:20231127
DTEND;VALUE=DATE:20231128
SUMMARY:DRK kulturTür Salon lädt ein: Gemeinsam auf der Suche nach Heimat
END:VEVENT
END:VCALENDAR
