BEGIN:VCALENDAR
VERSION:2.0
PRODID:-//Gratis-in-Berlin//NONSGML kigkonsult.se iCalcreator 2.14//
METHOD:PUBLISH
X-WR-CALNAME:Gratis-in-Berlin Tip Kalender
X-WR-CALDESC:Erhalte Gratis-in-Berlin Tips in deinem Kalender
BEGIN:VEVENT
UID:20260420T094524UTC-4728d6bXPG@Gratis-in-Berlin
DTSTAMP:20260420T094524Z
DESCRIPTION:Vom 15. bis zum 18. November kommen Whiskey-Fans vollends auf i
 hre Kosten. Denn in der Beavis Bar findet die erste North Carolina &amp\; 
 Tennessee Whiskey Week statt! Es stellen sich acht Brennereien mit insgesa
 mt 20 Produkten\, darunter 18 Whiskeys\, vor. Die Spirituosen sind größtentei
 ls noch nicht in Deutschland bekannt. Die Besonderheit: Viele der amerikan
 ischen Destillerien setzen inzwischen statt nur auf Rye und Bourbon auch a
 uf Single Malt Whiskeys ? die sonst eher aus Schottland und Irland bekannt
  sind. Am 15. und 16. November finden jeweils um 18.00 und 19.30 Uhr Verko
 stungen statt\, die von zwei Destillerien veranstaltet werden: Tennessee L
 egend Distillery und End of Days Distillery. Während der Tastings werden die
  Hersteller vier bis fünf ihrer Produkte kostenlos vorstellen. Die Gäste müssen sich i
 m Voraus per E-Mail über tasting@beavis.bar für die Veranstaltung anmelden. Wer die 
 verschiedenen Whiskeys und anderen Produkte lieber individuell probieren m
 öchte\, kann dies während der Öffnungszeiten der Beavis Bar vom 15. bis 18. Nove
 mber tun. Es wurden acht Flights mit Whiskeys der verschiedenen Hersteller
  zusammengestellt. Die Kosten für einen Flight mit drei Sorten liegen zwischen 
 27 und 38 Euro. Natürlich kann jedes Produkt auch einzeln verkostet und bestell
 t werden. Alle Verkostungen finden auf Englisch statt. Die zwei Hersteller
  werden die ganze Woche über anwesend sein\, um Whiskey-Liebhaber aus der Regio
 n zu treffen und über ihre Erfahrungen zu sprechen.\n\nViel Spass wünscht Gratis-in-
 Berlin\n\nLink zum Tip: https://www.gratis-in-berlin.de/kalender/item/2064
 085-north-carolina-tennessee-whiskey-week\nZu den Gratis-in-Berlin Angebot
 en: http://www.gratis-in-berlin.de\n
DTSTART;VALUE=DATE:20231115
DTEND;VALUE=DATE:20231119
SUMMARY:North Carolina & Tennessee Whiskey Week 
END:VEVENT
END:VCALENDAR
