BEGIN:VCALENDAR
VERSION:2.0
PRODID:-//Gratis-in-Berlin//NONSGML kigkonsult.se iCalcreator 2.14//
METHOD:PUBLISH
X-WR-CALNAME:Gratis-in-Berlin Tip Kalender
X-WR-CALDESC:Erhalte Gratis-in-Berlin Tips in deinem Kalender
BEGIN:VEVENT
UID:20260422T090538UTC-9084SeNh8C@Gratis-in-Berlin
DTSTAMP:20260422T090538Z
DESCRIPTION:Join us in designing a beautiful utopia that is solidary\, gree
 n\, feminist\, and full of joy!Haus 104 Tempelhofer FeldEnglish\, German\,
  French.Free of charge\, donations welcome!In these troubled times\, it's 
 more important than ever to stop anticipating the worst and start building
  the best. Together\, we can chart new and exciting courses\, giving free 
 rein to our imagination. This workshop invites you to overcome the prevail
 ing pessimism and enter a space where anything is possible\, if only for a
  few hours. Because utopia changes the world. As our patron\, Sandrine Rou
 daut\, says\, 'All of humanity's great advances\, our rights\, and our inn
 ovations\, which seem obvious to us today\, were all utopias yesterday. Th
 e beautiful realities of tomorrow can only be born in our utopias!'This wo
 rkshop is open to the general public. Whether you are a professional in th
 e field of eco-citizenship or a curious amateur\, you can take part in thi
 s journey. Participants will use oracle cards to explore the exciting pros
 pects awaiting us in 2030 in various areas\, including new forms of work\,
  sustainable consumption\, an economy at the service of life\, active mobi
 lity\, and repairable\, low-tech technology.\n\nViel Spass wünscht Gratis-in-Be
 rlin\n\nLink zum Tip: https://www.gratis-in-berlin.de/kalender/item/207354
 5-workshop-glorious-2030s\nZu den Gratis-in-Berlin Angeboten: http://www.g
 ratis-in-berlin.de\n
DTSTART;VALUE=DATE:20250718
DTEND;VALUE=DATE:20250719
SUMMARY:Workshop: Glorious 2030s
END:VEVENT
END:VCALENDAR
