BEGIN:VCALENDAR
VERSION:2.0
PRODID:-//Gratis-in-Berlin//NONSGML kigkonsult.se iCalcreator 2.14//
METHOD:PUBLISH
X-WR-CALNAME:Gratis-in-Berlin Tip Kalender
X-WR-CALDESC:Erhalte Gratis-in-Berlin Tips in deinem Kalender
BEGIN:VEVENT
UID:20260419T120023UTC-2822nuAj9z@Gratis-in-Berlin
DTSTAMP:20260419T120023Z
DESCRIPTION:Am 27. September 2025 ist MANGA DAY! 28 exklusive Sonderausgabe
 n aus verschiedenen Manga-Serien werden am MANGA DAY kostenlos in Deutschl
 and\, Österreich und der Schweiz verteilt. Die teilnehmenden Verlage haben 
 fleißig daran gearbeitet\, um euch ein einmaliges Erlebnis zu ermöglichen! Um 
 die Vorfreude jetzt schon zu schüren\, könnt ihr euch hier einen Überblick der dies
 jährigen Titel verschaffen: mangaday.de Bist Du dabei? Wir wünschen Dir ganz viel
  Spaß am MANGA DAY 2025! Am 27. September bekommt ihr jeweils eine Auswahl 
 von 9 der 28 Hefte hier:- Bezirkszentralbibliothek Pablo Neruda\, Frankfur
 ter Allee 14A\, 10247 Berlin- Mittelpunktbibliothek Wilhelm Liebknecht / N
 amik Kemal\, Adalbertstraße 2\, 10999 BerlinAm Montag\, den 29. September\,
  gibt es dann eine weitere Auswahl von jeweils 5 Comics hier:- Stadtteilbi
 bliothek Friedrich von Raumer\, Dudenstraße 18-20\, 10965 Berlin- Familienb
 ibliothek Else Ury\, Hinterhof Glogauer Straße 13\, 10999 Berlin27./29. Sep
 tember 2025- Pro Person Mitnahme von 3 Comicexemplaren- Teilnahme und Comi
 cs frei- ohne Voranmeldung\n\nViel Spass wünscht Gratis-in-Berlin\n\nLink zum T
 ip: https://www.gratis-in-berlin.de/international/item/2074316-manga-day\n
 Zu den Gratis-in-Berlin Angeboten: http://www.gratis-in-berlin.de\n
DTSTART;VALUE=DATE:20250927
DTEND;VALUE=DATE:20250928
SUMMARY:Manga Day
END:VEVENT
END:VCALENDAR
