BEGIN:VCALENDAR
VERSION:2.0
PRODID:-//Gratis-in-Berlin//NONSGML kigkonsult.se iCalcreator 2.14//
METHOD:PUBLISH
X-WR-CALNAME:Gratis-in-Berlin Tip Kalender
X-WR-CALDESC:Erhalte Gratis-in-Berlin Tips in deinem Kalender
BEGIN:VEVENT
UID:20260419T122333UTC-9418VTdDSW@Gratis-in-Berlin
DTSTAMP:20260419T122333Z
DESCRIPTION:this is an offline monthly book club for african literature\, i
 .e.\, books by africans from the continent &amp\; set in the continent. th
 e goal is to learn about the african continent through different stories b
 oth fiction and non-fiction.every month we'll read a book from a different
  region (east\, west\, north\, central or southern africa). no poetry book
 s (sorry).first meeting: saturday\, 7 february 2026 (time &amp\; location 
 info on meetup\, link below)join the meetup pagelanguage: englishthemes: e
 verything\n\nViel Spass wünscht Gratis-in-Berlin\n\nLink zum Tip: https://www.g
 ratis-in-berlin.de/kalender/item/2076432-berlin-african-book-club\nZu den 
 Gratis-in-Berlin Angeboten: http://www.gratis-in-berlin.de\n
DTSTART;VALUE=DATE:20260207
DTEND;VALUE=DATE:20260208
SUMMARY:berlin african book club
END:VEVENT
END:VCALENDAR
