BEGIN:VCALENDAR
VERSION:2.0
PRODID:-//Gratis-in-Berlin//NONSGML kigkonsult.se iCalcreator 2.14//
METHOD:PUBLISH
X-WR-CALNAME:Gratis-in-Berlin Tip Kalender
X-WR-CALDESC:Erhalte Gratis-in-Berlin Tips in deinem Kalender
BEGIN:VEVENT
UID:20260421T151512UTC-9180Vgrgwd@Gratis-in-Berlin
DTSTAMP:20260421T151512Z
DESCRIPTION:Die Veranstaltung findet auf Türkisch statt ? deutsche Version weite
 r unten // Etkinlik Türkçe olarak gerçekle?tirilecektir.Sürgündeki gazeteci Can Dündar?a bi
 r mektup ula??r. Gönderen: Serkan Kurtulu?. Buenos Aires?teki bir hapishanede
  tutuklu bulunan bir Türk vatanda??d?r. Kurtulu?\, kendisini\, onu öldürmekle görevle
 ndirilen ki?i olarak tan?t?r ve Dündar?a hayati önemde bilgiler verece?ini söyler. Böyle
 ce\, bir gerilim roman?n? aratmayan\; ancak ne yaz?k ki bütünüyle gerçek olan sar
 s?c? bir hikâye ba?lar. Bu hikâye\, siyasi iktidar?n kötüye kullan?m?n?n ürkütücü bir örne?ini
  gözler önüne serer.Arka plan: Can Dündar\, Türkiye?nin yasakl? bir Suriyeli ?slamc? örgüte g
 izlice silah sevkiyat? yapt???na dair yay?mlad??? bir haberin ard?ndan Cum
 hurba?kan? Recep Tayyip Erdo?an??n hedefi hâline geldi. 27 y?l hapis cezas?n
 a çarpt?r?ld?\; mahkeme binas? önünde silahl? sald?r?ya u?rad?.Dündar\, kendisini öldür
 mekle görevlendirildi?ini söyleyen adam? hapishanede ziyaret eder. Ancak bu ki?i
 \, Türkiye?ye iade edilme ihtimali nedeniyle art?k kendi hayat?ndan endi?e duym
 aktad?r. Onun aktard?klar? ve yürütülen kapsaml? ara?t?rmalar\, demokratik ve o
 toriter hükümetler aras?nda kurulan gizli ba?lant?lar?\; bu ba?lant?lar?n organ
 ize suç yap?lar? ve terör örgütleriyle kesi?en karanl?k a??n? gözler önüne serer.2016 y?l?
 nda Alternatif Nobel olarak bilinen Right Livelihood Award?? kazanan Cumhu
 riyet gazetesinin eski genel yay?n yönetmeni Can Dündar\, Türk istihbarat?n?n Suriye?ye
  silah sevkiyat?n? haberle?tirmesinin ard?ndan casusluk ve devlet s?rlar?n
 ? if?a etmek suçlamalar?yla g?yaben 27 y?l hapis cezas?na çarpt?r?ld? ve bir s
 uikast giri?iminin hedefi oldu.Berlin?de sürgünde ya?ayan ve çal??malar?n? burada
  sürdüren Dündar\, çok say?da belgesel filme imza att?\; Die Zeit için ?Meine Türkei? (Benim 
 Türkiye?m) ba?l?kl? kö?e yaz?lar? kaleme ald?\, ayr?ca 4\,5 milyon ki?iye ula?an m
 uhalefet platformu #Özgürüz?ün kurucusu ve genel yay?n yönetmenidir.2017 Avrupa Gaz
 etecisi Ödülü?nün yan? s?ra Reporters Without Borders ?nsan Haklar? Ödülü\, Lew Kopele
 w Ödülü\, Medyan?n Özgürlü?ü ve Gelece?i Ödülü\, Dünya Gazeteler ve Haber Yay?nc?lar? Birli?i?nin
  (WAN-IFRA) Özgürlük Alt?n Kalemi Ödülü\, Sosyal Demokratik Parti (SPD)'nin Gustav Hei
 nemann Vatanda?l?k Ödülü ve CPJ?nin (Gazetecileri Koruma Komitesi) Uluslararas? 
 Bas?n Özgürlü?ü Ödülü?nün sahibidir.Okuman?n moderatörlü?ünü Dr. Mustafa ?ener yapacak.Berlin 
 Avrupa Haftalar? kapsam?nda\, Friedrichshain-Kreuzberg?in AB temsilcili?i\
 , Kreuzberg?deki Wilhelm Liebknecht / Nam?k Kemal Merkez Kütüphanesi i? birli?i
 yle\, s?n?r ötesi temalar? ve güncel sorular? ele alan Avrupa edebiyat?n? tan?t?yo
 r.Deutsche Version ? die Veranstaltung findet auf Türkisch statt.Ein Brief erre
 icht den Exil-Journalisten Can Dündar. Der Absender: Serkan Kurtulu?\, ein türkische
 r Häftling in einem Gefängnis in Buenos Aires. Er gibt sich als jemand zu erke
 nnen\, der den Auftrag erhielt\, ihn zu ermorden ? und verspricht ihm bris
 ante Informationen. Der Anfang einer unglaublichen Geschichte\, spannend w
 ie ein Thriller\, aber leider real ? ein erschreckender Blick in die Abgründe p
 olitischen Machtmissbrauchs.Der Hintergrund: Mit einem Artikel über geheime Waf
 fenlieferungen der Türkei an eine verbotene syrische Islamistenorganisation mac
 hte sich Can Dündar Staatspräsident Erdo?an zum Feind. Er wurde zu 27 Jahren Haft
  verurteilt ? und es wurde ein Attentat auf ihn verübt\, direkt vor dem Gericht
 sgebäude.Dündar besucht den Mann\, der ihn ermorden sollte\, im Gefängnis. Dieser w
 iederum fürchtet wegen drohender Abschiebung in die Türkei jetzt selbst um sein Lebe
 n. Durch ihn und bei weiteren Recherchen stößt er auf ein Netzwerk von geheim
 en Deals zwischen demokratischen und autokratischen Regierungen und deren 
 Verbindungen zum organisierten Verbrechen und zu Terrororganisationen.Can 
 Dündar berichtete als Chefredakteur der Zeitung Cumhuriyet\, die 2016 mit dem A
 lternativen Nobelpreis ausgezeichnet wurde\, über Waffenlieferungen des türkischen G
 eheimdienstes nach Syrien\, woraufhin er wegen Spionage und Verrats von St
 aatsgeheimnissen in Abwesenheit zu über 27 Jahren Haft verurteilt und ein Morda
 nschlag auf ihn verübt wurde. Er lebt und arbeitet im Exil in Berlin\; u.a. dre
 hte er zahlreiche Dokumentarfilme\, schrieb er die Kolumne »Meine Türkei« für Die Zei
 t und ist Gründer und Chefredakteur der Oppositions-Plattform #Özgürüz (Wir sind frei
 )\, über die er 4\,5 Millionen Menschen erreicht. Er war Europäischer Journalist 
 des Jahres 2017\, ist Träger des Menschenrechtspreises von Reporter ohne Gre
 nzen\, des Lew-Kopelew-Preises\, des Preises für die Freiheit und Zukunft der M
 edien\, der Goldenen Feder der Freiheit der World Association of Newspaper
 s and News Publishers (WAN-IFRA)\, des Gustav-Heinemann-Bürgerpreises der SPD u
 nd des Internationalen Preises für Pressefreiheit des CPJ (Komitee zum Schutz v
 on Journalisten).Im Rahmen der Berliner Europawochen stellen die EU-Beauft
 ragte von Friedrichshain-Kreuzberg gemeinsam mit der Mittelpunktbibliothek
  Wilhelm Liebknecht / Namik Kemal in Kreuzberg europäische Literatur vor\, d
 ie grenzübergreifenden Themen und Fragen nachgeht.Die Moderation der Lesung wir
 d Dr. Mustafa ?ener übernehmen.9. Mai 2026 // 21 Uhr- Eintritt frei- ohne Voran
 meldung- Die Veranstaltung findet auf Türkisch statt. // Etkinlik Türkçe olarak gerçek
 le?tirilecektir.- Mittelpunktbibliothek Wilhelm Liebknecht / Namik KemalPr
 ogrammübersicht Lange Buchnacht in der Mittelpunktbibliothek\n\nViel Spass wünscht G
 ratis-in-Berlin\n\nLink zum Tip: \nZu den Gratis-in-Berlin Angeboten: http
 ://www.gratis-in-berlin.de\n
DTSTART;VALUE=DATE:20260509
DTEND;VALUE=DATE:20260510
SUMMARY:Lange Buchnacht: Can Dündar: 'Ich traf meinen Mörder'
END:VEVENT
END:VCALENDAR
