BEGIN:VCALENDAR
VERSION:2.0
PRODID:-//Gratis-in-Berlin//NONSGML kigkonsult.se iCalcreator 2.14//
METHOD:PUBLISH
X-WR-CALNAME:Gratis-in-Berlin Tip Kalender
X-WR-CALDESC:Erhalte Gratis-in-Berlin Tips in deinem Kalender
BEGIN:VEVENT
UID:20260423T220918UTC-12304dXT2l@Gratis-in-Berlin
DTSTAMP:20260423T220918Z
DESCRIPTION:Thema: Musik als gemeinsame Sprache.Von Jugendlichen moderiert.
 Im Anschluss an das Podiumsgespräch findet das Konzert 'The Messiah' im Rahm
 en des Projekts 'Händel für alle!' statt.\n\nViel Spass wünscht Gratis-in-Berlin\n\nLi
 nk zum Tip: \nZu den Gratis-in-Berlin Angeboten: http://www.gratis-in-berl
 in.de\n
DTSTART;VALUE=DATE:20260510
DTEND;VALUE=DATE:20260511
SUMMARY:Podiumsgespräch mit Musiker:innen im Exil
END:VEVENT
END:VCALENDAR
