BEGIN:VCALENDAR
VERSION:2.0
PRODID:-//Gratis-in-Berlin//NONSGML kigkonsult.se iCalcreator 2.14//
METHOD:PUBLISH
X-WR-CALNAME:Gratis-in-Berlin Tip Kalender
X-WR-CALDESC:Erhalte Gratis-in-Berlin Tips in deinem Kalender
BEGIN:VEVENT
UID:20260423T234217UTC-4257UnJTVF@Gratis-in-Berlin
DTSTAMP:20260423T234217Z
DESCRIPTION:AUSSTELLUNGIn der internationalen Gruppenausstellung widmen sic
 h 15 Künstler*innen einer zugleich verletzlichen und kraftvollen Idee: dem Opfe
 r.Zwischen Hingabe und Verlust\, zwischen religiöser Tradition und gesellscha
 ftlicher Realität entfaltet sich ein vielschichtiges Spannungsfeld. Die Künstler*
 innen beleuchten unter anderem\, was es bedeutet\, als Migrant*in in Berli
 n die eigene Stimme zu verlieren und wiederzugewinnen\; machen spürbar\, welche
  Sprachen verloren gehen\, wenn ihre Bedeutung verkannt wird\; nehmen uns 
 mit auf eine Klangreise in die Transzendenz\; und hinterfragen\, was passi
 ert\, wenn niemand das Opfer will\, das wir erbringen.In der besonderen At
 mosphäre der Parochialkirche treffen Skulptur\, Malerei\, Fotografie\, Perfo
 rmance und Klangkunst aufeinander. Die Werke laden dazu ein\, die verschie
 denen Bedeutungen des Opfers neu zu betrachten ? Opfer als Zustand und als
  Akt\, als Erleiden und als Geben.Parochialkirche Mitte\, Klosterstraße 67\
 , 10179 Berlin 8.?10. Mai 2026Vernissage Freitag\, 8. Mai\, 18.00Öffnungsze
 iten Freitag 18-21.30\, Samstag 12-21.30\, Sonntag 12-18.00Finissage Sonnt
 ag\, 10. Mai\, 16.00Mit Beiträgen von Morgane BrazilleOmer EliamGareth Harme
 rGabriel JeanjeanAbigail JohnsenJamal KhaliliDaisy KiddDaniela KitchinerMa
 ra KleinLiza KorobkoMartyna LebrykAoife LynchJavier Rojas TrejoStephan Van
  KuykKarolina Wlaz?o-MalinowskaMehr Infos zum Programm\, den Künstler*innen und
  Werken auf www.opfer.artKONZEPTInitiiert wurde das Projekt von der Berlin
 er Künstlerin und Deutsch-Dozentin Mara Klein. Dies ist die dritte Ausgabe des 
 B2/C1 Ausstellungskurses\, dessen Fokus auf dem Deutschlernen durch Reflex
 ion\, Austausch und Praxis beruht.Drei Monate lang traf sich die Gruppe in
  wöchentlichen Sitzungen\, um gemeinsam den Begriff Opfer in seiner Mehrdeuti
 gkeit zu reflektieren\, sich zur eigenen Praxis und konkreten Ideen zu künstler
 ischen Beiträgen auszutauschen und die Ausstellung gemeinsam auf die Beine z
 u stellen. Dabei diente die deutsche Sprache nicht nur als Kommunikationsm
 ittel\, sondern auch als Trägerin einer kulturellen Identität\, die es kritisc
 h zu reflektieren gilt. In diesem Raum öffnen sich Möglichkeiten für Teilnahme\, -hab
 e und -gabe.\n\nViel Spass wünscht Gratis-in-Berlin\n\nLink zum Tip: https://ww
 w.gratis-in-berlin.de/17-international/2078662-opfer-exhibition-and-perfor
 mances\nZu den Gratis-in-Berlin Angeboten: http://www.gratis-in-berlin.de
 \n
DTSTART;VALUE=DATE:20260508
DTEND;VALUE=DATE:20260511
SUMMARY:Opfer ? Exhibition and Performances
END:VEVENT
END:VCALENDAR
