BEGIN:VCALENDAR
VERSION:2.0
PRODID:-//Gratis-in-Berlin//NONSGML kigkonsult.se iCalcreator 2.14//
METHOD:PUBLISH
X-WR-CALNAME:Gratis-in-Berlin Tip Kalender
X-WR-CALDESC:Erhalte Gratis-in-Berlin Tips in deinem Kalender
BEGIN:VEVENT
UID:20260425T134413UTC-1606gHOso4@Gratis-in-Berlin
DTSTAMP:20260425T134413Z
DESCRIPTION:wenn am 21.12.12 um 19.30 Uhr\,die Welt nicht untergegangen ist
  laden wir herzlich zum letzten Kabarettcocktail in diesem Jahr in den Kle
 inkunstkeller ein. Das Kabarett-Mückenstich-Berlin bietet einen Kabarettcocktai
 l mit einem Mix von Kabarettnummern der vergagenen 5 Jahre. Musikalisch be
 gleiten uns Johnny Berlin und Ute Danielzick mit Gitarren sowei Daniel Ric
 hter am Klavier. Eintritt und Getränk frei \,kommt vorbei oder reserviert\,d
 a es in den vergangenen Veranstaltungen immer voll war\, unter 030/6953715
 2\,(einfach auf Ab sprechenund Namen und Platzanzahl nennen\,wenn wir nich
 t zurückrufen reservieren wir bis 5 Minuten vor Aufführung Plätze. Einlass 19.30\,Begi
 nn 20 Uhr\,Dieffenbachstr.18 in Kreuzberg\n\nViel Spass wünscht Gratis-in-Berli
 n\n\nLink zum Tip: https://www.gratis-in-berlin.de/gratis-in-berlin/item/2
 008346-theater-im-keller\nZu den Gratis-in-Berlin Angeboten: http://www.gr
 atis-in-berlin.de\n
DTSTART;VALUE=DATE:20121221
DTEND;VALUE=DATE:20121222
SUMMARY:Mit Mückenstich den Weltuntergang erleben! 
END:VEVENT
END:VCALENDAR
