BEGIN:VCALENDAR
VERSION:2.0
PRODID:-//Gratis-in-Berlin//NONSGML kigkonsult.se iCalcreator 2.14//
METHOD:PUBLISH
X-WR-CALNAME:Gratis-in-Berlin Tip Kalender
X-WR-CALDESC:Erhalte Gratis-in-Berlin Tips in deinem Kalender
BEGIN:VEVENT
UID:20260423T235645UTC-9834LcEfVj@Gratis-in-Berlin
DTSTAMP:20260423T235645Z
DESCRIPTION:SHOWSTART: 20 UHR\nDie Show ist ab 18 Jahren.&nbsp\;KussKuss Ko
 medy im Deriva in Neukölln ist das am längsten laufenden und erfolgreichsten St
 and-up Comedy Open Mics in Berlin. Wir sind das Original und bringen die C
 omedians aus der kreativen neuen berliner Szene auf die Bühne!Die Show wird von
  Jonas Imam gehostet. Erfahrene Comedians werden ihr neues Material zum Be
 sten geben und der ein oder andere Anfänger wird sich das erste Mal auf eine
 r Bühne versuchen. Kommt und helft uns sie mit eurem Lachen in der Welt der Sta
 nd-up Comedy zu begrüßen!Die Show beginnt um 20 Uhr. Sitzplätze sind begrenzt\, a
 lso kommt bitte rechtzeitig. Ihr könnt auch gern Plätze reservieren. Anspruch a
 uf die Reservierung verfällt nach 19:50 Uhr! Reserviert werden kann nur über Even
 tbrite.Der Eintritt ist frei! Spende erwünscht!\n\nViel Spass wünscht Gratis-in-Berl
 in\n\nLink zum Tip: \nZu den Gratis-in-Berlin Angeboten: http://www.gratis
 -in-berlin.de\n
DTSTART;VALUE=DATE:20260429
DTEND;VALUE=DATE:20260430
SUMMARY:KussKuss Komedy - Standup Comedy Show - 20 Uhr / Neukölln / Deriva Bar
  / Mainzerstr. 23 / U8 Boddinstr
END:VEVENT
END:VCALENDAR
