BEGIN:VCALENDAR
VERSION:2.0
PRODID:-//Gratis-in-Berlin//NONSGML kigkonsult.se iCalcreator 2.14//
METHOD:PUBLISH
X-WR-CALNAME:Gratis-in-Berlin Tip Kalender
X-WR-CALDESC:Erhalte Gratis-in-Berlin Tips in deinem Kalender
BEGIN:VEVENT
UID:20260422T144939UTC-46185zr8US@Gratis-in-Berlin
DTSTAMP:20260422T144939Z
DESCRIPTION:PUPPY LOVE is an open mic where comedians take their brand new 
 jokes out for their first walk in the world. It will not be a stroll in a 
 poodle park. No one is neutered. Some will act up. But it's a show for gre
 at jokes in all their misbehaved\, unpotty-trained glory. And every dog ??
 has its day\, so at PUPPY LOVE\, one joke gets crowned 'Best in Show'\, aw
 arded by you\, the Audience. Show starts at 8:30. Donation entry.\n\nViel 
 Spass wünscht Gratis-in-Berlin\n\nLink zum Tip: https://www.gratis-in-berlin.de
 /kalender/item/2031317-puppy-love-comedy-mongrel-may\nZu den Gratis-in-Ber
 lin Angeboten: http://www.gratis-in-berlin.de\n
DTSTART;VALUE=DATE:20170524
DTEND;VALUE=DATE:20170602
SUMMARY:Puppy Love Comedy - Mongrel MAY
END:VEVENT
END:VCALENDAR
