BEGIN:VCALENDAR
VERSION:2.0
PRODID:-//Gratis-in-Berlin//NONSGML kigkonsult.se iCalcreator 2.14//
METHOD:PUBLISH
X-WR-CALNAME:Gratis-in-Berlin Tip Kalender
X-WR-CALDESC:Erhalte Gratis-in-Berlin Tips in deinem Kalender
BEGIN:VEVENT
UID:20260422T132042UTC-69159Uw8oU@Gratis-in-Berlin
DTSTAMP:20260422T132042Z
DESCRIPTION:Mastul Stand-Up Comedy ist eine Open Mic Show (Offene Bühne) für Comedian
 s\, die Stand-Up Comedy auf Deutsch machen.Comedians werden ihr neues Mate
 rial zum Besten geben\, alte Witze neu interpretieren oder sich sogar das 
 erste Mal auf einer Bühne versuchen.Also kommt in die wunderschöne Mastul Bar und 
 helft uns sie mit deinem Lachen in der Welt des Witzes zu begrüßen! Die Barkeep
 er sind nett und die Getränke günstig!Die Show wird moderiert von Alex Upatov mod
 eriert und Kinan Al.Einlass 19:00Show 20:005? Spende erwünscht!\n\nViel Spass w
 ünscht Gratis-in-Berlin\n\nLink zum Tip: https://www.gratis-in-berlin.de/kalend
 er/item/2031319-mastul-stand-up-comedy\nZu den Gratis-in-Berlin Angeboten:
  http://www.gratis-in-berlin.de\n
DTSTART;VALUE=DATE:20170525
DTEND;VALUE=DATE:20170526
SUMMARY:Mastul Stand-Up Comedy
END:VEVENT
END:VCALENDAR
