BEGIN:VCALENDAR
VERSION:2.0
PRODID:-//Gratis-in-Berlin//NONSGML kigkonsult.se iCalcreator 2.14//
METHOD:PUBLISH
X-WR-CALNAME:Gratis-in-Berlin Tip Kalender
X-WR-CALDESC:Erhalte Gratis-in-Berlin Tips in deinem Kalender
BEGIN:VEVENT
UID:20260422T134018UTC-7525mEoZHa@Gratis-in-Berlin
DTSTAMP:20260422T134018Z
DESCRIPTION:? RESERVIERUNGEN ?+++ IHR BRAUCHT NICHT ZU RESERVIEREN\, IHR KÖN
 NT EINFACH SPONTAN VORBEIKOMMEN +++Wer lieber auf Nummer sicher gehen will
 \, der kann gerne den Link zu Eventbrite nutzen\, um sich dort sichere Plätz
 e zu reservieren.SHABBY COMEDY LATESHOW (22:30 Uhr):Mad Monkey RoomDanzige
 r Straße 1gleich am U-Bahnhof Eberswalder Straße.(U2\, Tram M10\, und M1)Ein
 lass: 22:00 UhrBeginn: 22:30 Uhr&nbsp\;Eintritt ab 18 Jahre&nbsp\;Der EINT
 RITT ist FREI. (Spende am Ausgang erwünscht: Vorschlag: pro Person 10?)\n\nViel
  Spass wünscht Gratis-in-Berlin\n\nLink zum Tip: \nZu den Gratis-in-Berlin Ange
 boten: http://www.gratis-in-berlin.de\n
DTSTART;VALUE=DATE:20260424
DTEND;VALUE=DATE:20260425
SUMMARY:Shabby Comedy Lateshow! Stand up im 'Mad Monkey Room'! In Prenzl Be
 rg direkt Ubhf Eberswalderstr. 22:30 Uhr
END:VEVENT
END:VCALENDAR
