BEGIN:VCALENDAR
VERSION:2.0
PRODID:-//Gratis-in-Berlin//NONSGML kigkonsult.se iCalcreator 2.14//
METHOD:PUBLISH
X-WR-CALNAME:Gratis-in-Berlin Tip Kalender
X-WR-CALDESC:Erhalte Gratis-in-Berlin Tips in deinem Kalender
BEGIN:VEVENT
UID:20260422T140147UTC-4368v22evL@Gratis-in-Berlin
DTSTAMP:20260422T140147Z
DESCRIPTION:++ Reservieren nicht notwendig ++++ Ihr könnt einfach vorbei komme
 n ++Wer dennoch stressfrei Plätze reservieren möchte\, kann gerne den Link zu E
 ventbrite nutzen.&nbsp\;MAD MONDAY COMEDY (20:00 Uhr):Mad Monkey RoomDanzi
 ger Straße 1gleich am U-Bahnhof Eberswalder Straße.(U2\, Tram M10\, und M1)E
 inlass: 19:30 UhrBeginn: 20:00 UhrDer EINTRITT ist FREI. (Spende am Ausgan
 g erwünscht: Vorschlag: Pro Person: 10?)Präsentiert wird euch die Show von GIAN A
 LBA\, für gewöhnlich auch auf der Bühne: PHILIPP UCKEL\n\nViel Spass wünscht Gratis-in-Berli
 n\n\nLink zum Tip: \nZu den Gratis-in-Berlin Angeboten: http://www.gratis-
 in-berlin.de\n
DTSTART;VALUE=DATE:20231113
DTEND;VALUE=DATE:20231114
SUMMARY:Mad Monday Mainshow: Stand up im Comedy Club 'Mad Monkey Room' Pren
 zlauer Berg\, direkt Ubhf Eberswalderstr 20:00 Uhr 
END:VEVENT
END:VCALENDAR
