BEGIN:VCALENDAR
VERSION:2.0
PRODID:-//Gratis-in-Berlin//NONSGML kigkonsult.se iCalcreator 2.14//
METHOD:PUBLISH
X-WR-CALNAME:Gratis-in-Berlin Tip Kalender
X-WR-CALDESC:Erhalte Gratis-in-Berlin Tips in deinem Kalender
BEGIN:VEVENT
UID:20260422T133945UTC-0011TvK7wC@Gratis-in-Berlin
DTSTAMP:20260422T133945Z
DESCRIPTION:? RESERVIERUNGEN ?+++ IHR BRAUCHT NICHT ZU RESERVIEREN\, IHR KÖN
 NT EINFACH SPONTAN VORBEIKOMMEN +++Wer lieber auf Nummer sicher gehen will
 \, der kann gerne den Link zu Eventbrite nutzen\, um sich dort sichere Plätz
 e zu reservieren.SHABBY COMEDY (18:00 Uhr):Mad Monkey RoomDanziger Straße 1
 gleich am U-Bahnhof Eberswalder Straße(U2\, Tram M10\, und M1)Einlass: 17:3
 0 UhrBeginn: 18:00 UhrDer EINTRITT ist FREI(Spende am Ausgang erwünscht: Vorsch
 lag: pro Person 10?)Präsentiert wird euch die Show von PHILIPP UCKEL\n\nViel
  Spass wünscht Gratis-in-Berlin\n\nLink zum Tip: \nZu den Gratis-in-Berlin Ange
 boten: http://www.gratis-in-berlin.de\n
DTSTART;VALUE=DATE:20260424
DTEND;VALUE=DATE:20260425
SUMMARY:Shabby Comedy Earlyshow! Stand up im ?Mad Monkey Room? ! Prenzlauer
  Berg direkt Ubhf Eberswalderstr! 18 Uhr
END:VEVENT
END:VCALENDAR
