BEGIN:VCALENDAR
VERSION:2.0
PRODID:-//Gratis-in-Berlin//NONSGML kigkonsult.se iCalcreator 2.14//
METHOD:PUBLISH
X-WR-CALNAME:Gratis-in-Berlin Tip Kalender
X-WR-CALDESC:Erhalte Gratis-in-Berlin Tips in deinem Kalender
BEGIN:VEVENT
UID:20260420T161610UTC-1724nvGMW4@Gratis-in-Berlin
DTSTAMP:20260420T161610Z
DESCRIPTION:? RESERVIERUNGEN ?Ihr könnt einfach vorbeikommen\, aber es wird se
 hr empfohlen zu reservieren\, da die Show sehr beliebt ist. Nutzt dafür gerne d
 en Link unten zu Eventbrite.MONSTER COMEDY Earlyshow (18:30 Uhr):Mad Monke
 y RoomDanziger Straße 1gleich am U-Bahnhof Eberswalder Straße(U2\, Tram M10\
 , und M1)Einlass: 18:00 UhrBeginn: 18:30 UhrDer EINTRITT ist FREI.(Spende 
 am Ausgang erwünscht: Vorschlag: Pro Person: 10?)Präsentiert wird euch die Show v
 on PHILIPP UCKEL\n\nViel Spass wünscht Gratis-in-Berlin\n\nLink zum Tip: \nZu d
 en Gratis-in-Berlin Angeboten: http://www.gratis-in-berlin.de\n
DTSTART;VALUE=DATE:20240827
DTEND;VALUE=DATE:20240828
SUMMARY:Monster Earlyshow: Stand up im Comedy Club 'Mad Monkey Room' Prenzl
 auer Berg direkt Ubhf Eberswalderstr 18:30 Uhr komm
END:VEVENT
END:VCALENDAR
