BEGIN:VCALENDAR
VERSION:2.0
PRODID:-//Gratis-in-Berlin//NONSGML kigkonsult.se iCalcreator 2.14//
METHOD:PUBLISH
X-WR-CALNAME:Gratis-in-Berlin Tip Kalender
X-WR-CALDESC:Erhalte Gratis-in-Berlin Tips in deinem Kalender
BEGIN:VEVENT
UID:20260426T003642UTC-5661FmRaoU@Gratis-in-Berlin
DTSTAMP:20260426T003642Z
DESCRIPTION:Im Anschluss an die Spielzeit-Matinée im Innenhof des Berliner En
 sembles ein buntes Programm für Groß und Klein: Musik\, Führungen\, Kostüm-Shootings\, Gri
 llspeisen der Berliner Kantine\, Eis\, Popcorn u.v.m.Programm ab 13.30 UHR
  INNENHOF\, vermutlich ähnlich wie letztes Mal:Führungen auf den Spuren von Helen
 e Weigel durch das Berliner EnsembleBE-Tanzorchester mit Ensemblemitgliede
 rn u.a.Kostüm-Fotosession vor GreenscreenKinderschminkenSpielspass für Kinder mit Re
 itpferd\, Stelzen uvm.XXL-TischkickerInfotisch der Freund:innen des Berlin
 er EnsemblesDJ&nbsp\;\n\nViel Spass wünscht Gratis-in-Berlin\n\nLink zum Tip: 
 \nZu den Gratis-in-Berlin Angeboten: http://www.gratis-in-berlin.de\n
DTSTART;VALUE=DATE:20260510
DTEND;VALUE=DATE:20260511
SUMMARY:Hoffest Berliner Ensemble
END:VEVENT
END:VCALENDAR
