BEGIN:VCALENDAR
VERSION:2.0
PRODID:-//Gratis-in-Berlin//NONSGML kigkonsult.se iCalcreator 2.14//
METHOD:PUBLISH
X-WR-CALNAME:Gratis-in-Berlin Tip Kalender
X-WR-CALDESC:Erhalte Gratis-in-Berlin Tips in deinem Kalender
BEGIN:VEVENT
UID:20260420T130641UTC-3874JWRrvT@Gratis-in-Berlin
DTSTAMP:20260420T130641Z
DESCRIPTION:When was the first time you experienced culture shock in Berlin
 ? What it when you ordered spicy food and they gave you paprika? Or was it
  drinking a beer with your boss during lunch? In a city full of immigrants
 \, refugees and the weirdest Germans\, everyone has a million stories abou
 t culture shock. In this show comedians and the audience will share their 
 crazy stories about life back home and in Berlin.\n\nViel Spass wünscht Gratis-
 in-Berlin\n\nLink zum Tip: \nZu den Gratis-in-Berlin Angeboten: http://www
 .gratis-in-berlin.de\n
DTSTART;VALUE=DATE:20231108
DTEND;VALUE=DATE:20231109
SUMMARY:Culture Chaos - An Interactive English Comedy Show
END:VEVENT
END:VCALENDAR
