BEGIN:VCALENDAR
VERSION:2.0
PRODID:-//Gratis-in-Berlin//NONSGML kigkonsult.se iCalcreator 2.14//
METHOD:PUBLISH
X-WR-CALNAME:Gratis-in-Berlin Tip Kalender
X-WR-CALDESC:Erhalte Gratis-in-Berlin Tips in deinem Kalender
BEGIN:VEVENT
UID:20260420T130255UTC-8665ZuXD9d@Gratis-in-Berlin
DTSTAMP:20260420T130255Z
DESCRIPTION:Dieses mal u.a. mit Daniel Wolfson und Kinan AlDie ShowBei Fabe
 lhaft Comedy erlebt ihr jeden zweiten Montag\, wie die größten Talente der Be
 rliner Comedy-Szene ihr neuestes Material testen und alte Gags rund spiele
 n. Freut euch auf authentische Stand-Up-Comedy mit gestandenen Profis und 
 hungrigen Anfängern.Einlass: 19:00Showbeginn: 19:30Die Show ist spendenbasie
 rt: Wir freuen uns über 5 - 10 Euro\, die uns dabei helfen\, weiterhin Shows zu
  organisieren.Reservierungen- Ihr könnt über den Eventbrite-Link unten Plätze reserv
 ieren- Ihr könnt auch ohne Reservierung vorbeischauen\, allerdings sind die P
 lätze begrenzt und die Tickets heiß begehrt- Reservierungen verlieren ihre Gültigk
 eit um 19:15\, danach machen wir die Bude voll mit FußvolkDie LocationDie S
 how findet im schnuckeligen Kino der großartigen Z-Bar in Mitte statt. Komm
 t bereits vorher vorbei oder gönnt euch im Anschluss ein paar Drinks an der B
 ar.Adresse:Z-BarBergstraße 2\, 10115Füßläufig erreicht ihr die Bar z.B. von den 
 Stationen ROSENTHALER PLATZ (U8\, M1\, M8) und ORANIENBURGER TOR (U6\, M1)
 .ModerationModeriert wird die Show von den Berliner Comedians Rasmus &amp\
 ; Josef Grinspun. Kommt vorbei\, wir freuen uns darauf\, euch kennenzulern
 en.\n\nViel Spass wünscht Gratis-in-Berlin\n\nLink zum Tip: \nZu den Gratis-in-
 Berlin Angeboten: http://www.gratis-in-berlin.de\n
DTSTART;VALUE=DATE:20231113
DTEND;VALUE=DATE:20231114
SUMMARY:Fabelhaft Comedy: Stand-Up Comedy nahe Rosenthaler Platz
END:VEVENT
END:VCALENDAR
