BEGIN:VCALENDAR
VERSION:2.0
PRODID:-//Gratis-in-Berlin//NONSGML kigkonsult.se iCalcreator 2.14//
METHOD:PUBLISH
X-WR-CALNAME:Gratis-in-Berlin Tip Kalender
X-WR-CALDESC:Erhalte Gratis-in-Berlin Tips in deinem Kalender
BEGIN:VEVENT
UID:20260422T083638UTC-6919hJbW85@Gratis-in-Berlin
DTSTAMP:20260422T083638Z
DESCRIPTION:Die ShowBei Fabelhaft Comedy erlebt ihr jeden zweiten Montag\, 
 wie die größten Talente der Berliner Comedy-Szene ihr neuestes Material teste
 n und alte Gags rund spielen. Freut euch auf authentische Stand-Up-Comedy 
 mit gestandenen Profis und hungrigen Anfängern.Einlass: 19:00Showbeginn: 19:
 30Die Show ist spendenbasiert: Wir freuen uns über 5 - 10 Euro\, die uns dabei 
 helfen\, weiterhin Shows zu organisieren.Reservierungen- Ihr könnt über den Eventb
 rite-Link unten Plätze reservieren- Ihr könnt auch ohne Reservierung vorbeischa
 uen\, allerdings sind die Plätze begrenzt und die Tickets heiß begehrt- Reser
 vierungen verlieren ihre Gültigkeit um 19:15\, danach machen wir die Bude voll 
 mit FußvolkDie LocationDie Show findet im schnuckeligen Kino der großartigen
  Z-Bar in Mitte statt. Kommt bereits vorher vorbei oder gönnt euch im Anschlu
 ss ein paar Drinks an der Bar.Adresse:Z-BarBergstraße 2\, 10115Füßläufig erreich
 t ihr die Bar z.B. von den Stationen ROSENTHALER PLATZ (U8\, M1\, M8) und 
 ORANIENBURGER TOR (U6\, M1).ModerationModeriert wird die Show von den Berl
 iner Comedians Rasmus &amp\; Josef Grinspun. Kommt vorbei\, wir freuen uns
  darauf\, euch kennenzulernen.\n\nViel Spass wünscht Gratis-in-Berlin\n\nLink z
 um Tip: \nZu den Gratis-in-Berlin Angeboten: http://www.gratis-in-berlin.d
 e\n
DTSTART;VALUE=DATE:20231127
DTEND;VALUE=DATE:20231128
SUMMARY:Fabelhaft Comedy: Stand-Up Comedy nahe Rosenthaler Platz
END:VEVENT
END:VCALENDAR
