BEGIN:VCALENDAR
VERSION:2.0
PRODID:-//Gratis-in-Berlin//NONSGML kigkonsult.se iCalcreator 2.14//
METHOD:PUBLISH
X-WR-CALNAME:Gratis-in-Berlin Tip Kalender
X-WR-CALDESC:Erhalte Gratis-in-Berlin Tips in deinem Kalender
BEGIN:VEVENT
UID:20260424T131752UTC-9542uWS3nM@Gratis-in-Berlin
DTSTAMP:20260424T131752Z
DESCRIPTION:Since Palma &amp\; Bruno moved to Germany\, the struggle has be
 come real. Sure\, things work great here\, but they miss the bachata\, the
  spice and the latino flow.\n\nViel Spass wünscht Gratis-in-Berlin\n\nLink zum 
 Tip: \nZu den Gratis-in-Berlin Angeboten: http://www.gratis-in-berlin.de\n
DTSTART;VALUE=DATE:20231122
DTEND;VALUE=DATE:20231123
SUMMARY:Too Much Gasolina - A Very Latino Standup Comedy Show In English
END:VEVENT
END:VCALENDAR
