BEGIN:VCALENDAR
VERSION:2.0
PRODID:-//Gratis-in-Berlin//NONSGML kigkonsult.se iCalcreator 2.14//
METHOD:PUBLISH
X-WR-CALNAME:Gratis-in-Berlin Tip Kalender
X-WR-CALDESC:Erhalte Gratis-in-Berlin Tips in deinem Kalender
BEGIN:VEVENT
UID:20260422T134018UTC-2226UlWKxv@Gratis-in-Berlin
DTSTAMP:20260422T134018Z
DESCRIPTION:? Galaktische Stand-up Comedy ? Lichtenberg ? 19:30 Uhr | 'Raum
  &amp\; Zeit' ?? Den Donnerstag mit Comedy ausklingen lassen ? Gemütliche Live-
 Unterhaltung in Lichtenberg ? Chillig in den Feierabend lachen&nbsp\;'Raum
  &amp\; Zeit' ist die galaktische Stand-up Comedy-Show im INTERKOSMOS in B
 erlin-Lichtenberg\, direkt an der U5.Jede Woche präsentieren hier die lustig
 sten Profi- und Hobby-Comedians ihr (bald) bestes Material. Hier entstehen
  die Jokes der Zukunft ? und Ihr seid live dabei. Was für ein Spaß!Einlass: 19:3
 0 UhrShowbeginn: 20:00 UhrBitte reserviert Euch einen Sitzplatz.Moderation
 :Unser Moderator Philipp Schlüter ist bekannt aus u.a.? diversen TV-Formaten wi
 e Sky Comedy\, Quatsch Comedy Club etc.? arbeitet als Autor für verschiedene Co
 medy-Produktionenund führt bei RAUM &amp\; ZEIT durch den Abend.DER LADEN ? INT
 ERKOSMOSDie/das liebevoll geführte Bar/Café Interkosmos ist eine alternative Inst
 itution in Lichtenberg ? nicht zuletzt wegen des großartigen Veranstaltungs
 raumes\, der perfekten Location für kleine Konzerte\, Feiern und vor allem Stan
 d-up Comedy.www.interkosmos.ccZEIT? Einlass 19:30 Uhr? Showbeginn 20:00 Uh
 r? Showende ca. 22:00 UhrEINTRITTDer Eintritt ist frei\, wir freuen uns na
 ch der Show über eine Spende (7 bis 10 Euro).\n\nViel Spass wünscht Gratis-in-Berlin
 \n\nLink zum Tip: \nZu den Gratis-in-Berlin Angeboten: http://www.gratis-i
 n-berlin.de\n
DTSTART;VALUE=DATE:20231123
DTEND;VALUE=DATE:20231124
SUMMARY:'Raum & Zeit ? die galaktische Comedy-Show' im Interkosmos ? ab 19:
 30 Uhr in Berlin-Lichtenberg
END:VEVENT
END:VCALENDAR
