BEGIN:VCALENDAR
VERSION:2.0
PRODID:-//Gratis-in-Berlin//NONSGML kigkonsult.se iCalcreator 2.14//
METHOD:PUBLISH
X-WR-CALNAME:Gratis-in-Berlin Tip Kalender
X-WR-CALDESC:Erhalte Gratis-in-Berlin Tips in deinem Kalender
BEGIN:VEVENT
UID:20260422T133600UTC-0194VKuhdH@Gratis-in-Berlin
DTSTAMP:20260422T133600Z
DESCRIPTION:Für die einen ist Franz Fühmann der größte Autor der DDR und für die anderen ist 
 er schlichtweg unbekannt. Fühmann selbst beschrieb sich in seinem Testament (19
 84) als gescheitert: 'In der Literatur und in der Hoffnung auf eine neue G
 esellschaft\, wie wir sie alle einmal erträumten.' Diesen Lebensweg bringt d
 as Berliner Recherchekollektiv Vajswerk e.V. nun in einem Recherche-Theate
 r-Projekt auf die Bühne. Dem Stück liegen teils unbekannten Dokumenten zu Grunde. Am
  Anfang steht ein junger Mann\, der sich aus seinen Erfahrungen als Hitler
 junge und Wehrmachtssoldat bewusst für den Sozialismus entschied - und sich dem
  anderen Deutschland als Schriftsteller und Parteipolitiker in den Dienst 
 stellt. Und der zunehmend in Konflikt gerät - mit seinem Staat\, seinem Werk
 \, seiner Wandlung und sich fortan schreibend die Haut abzog\, den Ort der
  Seele suchend.Weitere Infos:Ort: Berliner Stadtbibliothek | Berlin-SaalAn
 meldung möglich über info@vajswerk.deZuvor wird um 18.00 Uhr eine kleine Führung durch 
 die Sammlung Fühmann angeboten. Bitte senden Sie bei Interesse eine E-Mail an: 
 BerlinSammlungen@zlb.de.Weitere Termine:01.12. | 05.12. | 06.12.Foto © Vajs
 werk e.V.\n\nViel Spass wünscht Gratis-in-Berlin\n\nLink zum Tip: \nZu den Grat
 is-in-Berlin Angeboten: http://www.gratis-in-berlin.de\n
DTSTART;VALUE=DATE:20231129
DTEND;VALUE=DATE:20231130
SUMMARY:Häutungen Franz Fühmanns | Ein Recherche-Theater-Projekt 
END:VEVENT
END:VCALENDAR
