BEGIN:VCALENDAR
VERSION:2.0
PRODID:-//Gratis-in-Berlin//NONSGML kigkonsult.se iCalcreator 2.14//
METHOD:PUBLISH
X-WR-CALNAME:Gratis-in-Berlin Tip Kalender
X-WR-CALDESC:Erhalte Gratis-in-Berlin Tips in deinem Kalender
BEGIN:VEVENT
UID:20260422T083524UTC-32143mPTi7@Gratis-in-Berlin
DTSTAMP:20260422T083524Z
DESCRIPTION:Simon is half Swedish half Spanish comedian with the dark past 
 of Lord Voldemort and the innocence of a labrador\, that always perform wi
 th the passion of a flamenco dancer and has the ability to assemble jokes 
 the way a true Swede assembles IKEA furniture\; struggling and cursing mor
 e than he should.He has toured and performed in over 10 countries and done
  over a total of +600 shows and placed 34th in the Romanian TV show Standu
 p Revolution (impressed already). When he is not on Romanian TV (which is 
 most of the time)\, you can catch him around Berlin performing and hosting
  in multiple shows such as Best Friends comedy\, on the spot\, joke battle
  and many more.What you need to know:where\n\nViel Spass wünscht Gratis-in-Berl
 in\n\nLink zum Tip: \nZu den Gratis-in-Berlin Angeboten: http://www.gratis
 -in-berlin.de\n
DTSTART;VALUE=DATE:20231118
DTEND;VALUE=DATE:20231119
SUMMARY:Free English Comedy Stand-Up Show - not smooth
END:VEVENT
END:VCALENDAR
