BEGIN:VCALENDAR
VERSION:2.0
PRODID:-//Gratis-in-Berlin//NONSGML kigkonsult.se iCalcreator 2.14//
METHOD:PUBLISH
X-WR-CALNAME:Gratis-in-Berlin Tip Kalender
X-WR-CALDESC:Erhalte Gratis-in-Berlin Tips in deinem Kalender
BEGIN:VEVENT
UID:20260420T080612UTC-8237kPVg2u@Gratis-in-Berlin
DTSTAMP:20260420T080612Z
DESCRIPTION:Machen Sie sich bereit für die magischste und komischste Show\, die 
 Sie je erlebt haben. Das TrickPack\, vier Magier\, die so unterschiedlich 
 sind wie Ketchup und Senf\, präsentieren einen Mix aus schnellen Tricks\, ch
 armanten Witzen und wunderbarer Interaktion! Sie werden Ihren Augen nicht 
 trauen\, wenn das TrickPack Fingerfertigkeiten einsetzt und aus den verrücktest
 en Ideen die unglaublichsten Dinge entstehen lässt. Das ist keine gewöhnliche S
 how\, das ist eine Explosion aus Magie und Entertainment. Lassen Sie sich 
 von der Leidenschaft und dem Talent des TrickPacks mitreißen. Aber Achtung:
  Die Magier könnten Ihnen die Sprache verschlagen.Mit Oliver Grammel\, Freddi
 e Rutz\, Fabian Weiss und Felix Wohlfahrt. EINTRITT FREI! Anmeldung unter 
 tickets@gemeinschaftshaus.net oder tickets.vibus.de\n\nViel Spass wünscht Grati
 s-in-Berlin\n\nLink zum Tip: https://www.gratis-in-berlin.de/kalender/item
 /2064348-trickpack-magic-comedy\nZu den Gratis-in-Berlin Angeboten: http:/
 /www.gratis-in-berlin.de\n
DTSTART;VALUE=DATE:20231123
DTEND;VALUE=DATE:20231124
SUMMARY:TrickPack - Magic Comedy
END:VEVENT
END:VCALENDAR
