BEGIN:VCALENDAR
VERSION:2.0
PRODID:-//Gratis-in-Berlin//NONSGML kigkonsult.se iCalcreator 2.14//
METHOD:PUBLISH
X-WR-CALNAME:Gratis-in-Berlin Tip Kalender
X-WR-CALDESC:Erhalte Gratis-in-Berlin Tips in deinem Kalender
BEGIN:VEVENT
UID:20260424T100153UTC-4938sPfuuE@Gratis-in-Berlin
DTSTAMP:20260424T100153Z
DESCRIPTION:KussKuss Komedy ist das am längsten laufende wöchentliche Stand-Up-C
 omedy Open Mic der Stadt und ein elementarer Baustein der Berliner Comedys
 zene. Jetzt präsentieren euch die erfahrenen Comedians Jonas Imam und Kalle 
 Zilske (beide bekannt aus dem Quatsch Comedy Club\, Nightwash\, den Wühlmausen 
 uvm.) eine Auswahl der besten Comedians und Newcomer. Erfahrene Comedians 
 geben neues Material zum Besten und der ein oder andere Anfänger wird sich d
 as erste Mal auf einer Bühne versuchen. Kommt und begrüßt sie mit eurem Lachen in de
 r Welt der Stand-Up-Comedy! Vier Comedians\, vier einzigartige Stile\, vie
 rmal das Beste\, was die Berliner Szene zu bieten hat!EINTRITT FREI ? Anme
 ldung unter tickets@gemeinschaftshaus.netEine Veranstaltung im Rahmen des 
 Netzwerks der Wärme.\n\nViel Spass wünscht Gratis-in-Berlin\n\nLink zum Tip: http
 s://www.gratis-in-berlin.de/kalender/item/2064349-kusskuss-komedy\nZu den 
 Gratis-in-Berlin Angeboten: http://www.gratis-in-berlin.de\n
DTSTART;VALUE=DATE:20231128
DTEND;VALUE=DATE:20231129
SUMMARY:KussKuss Komedy
END:VEVENT
END:VCALENDAR
