BEGIN:VCALENDAR
VERSION:2.0
PRODID:-//Gratis-in-Berlin//NONSGML kigkonsult.se iCalcreator 2.14//
METHOD:PUBLISH
X-WR-CALNAME:Gratis-in-Berlin Tip Kalender
X-WR-CALDESC:Erhalte Gratis-in-Berlin Tips in deinem Kalender
BEGIN:VEVENT
UID:20260422T105648UTC-5534LRLgbD@Gratis-in-Berlin
DTSTAMP:20260422T105648Z
DESCRIPTION:Welcome to Tuesday Open Mic\, the Open Mic for new jokes and co
 medians!?Open Mic...does that mean it will be a boring show?? Nope\, not a
 t all!It just means it?s a show that?s open to all comedians\, from beginn
 ers to pros. It?s a casual show where comedians can experiment with new jo
 kes...and let?s be honest\, a joke that bombs is quite funny too!This is a
 n Open Mic\, where we have? Beginners losing their comedy virginity? Exper
 ienced comedians trying new material? The hosts Simon Gonzales and Pascal 
 Hausberger are experienced comics who will entertain with new jokes and cr
 owd interaction throughout the showThe lockdown is long gone (hopefully)\,
  you don?t need to still stay home anymore! Instead of staying home and wa
 tching Netflix\, why not come and experience comedy LIVE???You can?t hear 
 the sound and feel the fun of being right in the middle of the room while 
 the comedians tell jokes online. That?s ONLY possible live in person!Plus 
 if you ever wanted to try Stand-Up yourself\, here?s your chance! Signing 
 up is as easy as just showing up and putting your name in the hat (more de
 tails below)Reserve your seat by clicking the link to Eventbrite! (reserva
 tions are valid until 10min before show begin)?Do I really need to reserve
 ??\, you might be asking. Nope you don?t\, but you?re risking not being ab
 le to join the show once it?s already full. Plus to make the heavy effort 
 of clicking the link and putting in your name worth it\, we will give you 
 a BIG and warm hug!So reserve your seat now!DETAILS:Every second Tuesday f
 rom 8:30-10:30pm\, door opens at 8:00pmat The Wall Comedy Club\, right at 
 Boxhagener PlatzIf you had a good time\, a donation would be appreciated t
 o keep the show running (suggested donation is 13-10? for working adults\,
  7-5? for students)For comedians:Please signup here on Facebook under 'Dis
 cussions'. We will pick the lineup several days before the show\n\nViel Sp
 ass wünscht Gratis-in-Berlin\n\nLink zum Tip: \nZu den Gratis-in-Berlin Angebot
 en: http://www.gratis-in-berlin.de\n
DTSTART;VALUE=DATE:20231128
DTEND;VALUE=DATE:20231129
SUMMARY:Free English Standup comedy - Tuesday open mic - #31
END:VEVENT
END:VCALENDAR
