BEGIN:VCALENDAR
VERSION:2.0
PRODID:-//Gratis-in-Berlin//NONSGML kigkonsult.se iCalcreator 2.14//
METHOD:PUBLISH
X-WR-CALNAME:Gratis-in-Berlin Tip Kalender
X-WR-CALDESC:Erhalte Gratis-in-Berlin Tips in deinem Kalender
BEGIN:VEVENT
UID:20260422T121711UTC-4575HOec0o@Gratis-in-Berlin
DTSTAMP:20260422T121711Z
DESCRIPTION:Stand-Up Comedy\, wie sie sein soll ? direkt\, witzig und authe
 ntisch.Erlebt Original Berlin Stand-Up Comedy im gemütlichsten Club der Stadt!L
 asst euch von erstklassigen Comedians zum Lachen bringen und genießt einen 
 unvergesslichen Abend in entspannter Atmosphäre.Macht Euch bereit\, für eine Show
  die Euch die Schuhe ausziehen wird!Einlass 20:00 Uhr | Showtime: 20:30 Uh
 rJede Woche gibt es verschiedene Comedy Show in der GöREDie GöRE ? Palisadenstra
 ße 48 ? Berlin Friedrichshain (U-Bahn Weberwiese)Wichtiger Hinweis:Unsere G
 ratis Tickets sind für alle da\, bei denen es gerade knapp ist. Leider können wir 
 nur eine begrenzte Anzahl an Gratis Tickets zur Verfügung stellen.Darum reservi
 ert euch bitte ein Ticket über den Link.Falls ihr nicht kommen könnt\, storniert e
 s bitte wieder\, damit andere buchen können.Die normalen Tickets sind über Eventbr
 ite oder an der Abendkasse erhältlich.\n\nViel Spass wünscht Gratis-in-Berlin\n\n
 Link zum Tip: \nZu den Gratis-in-Berlin Angeboten: http://www.gratis-in-be
 rlin.de\n
DTSTART;VALUE=DATE:20260424
DTEND;VALUE=DATE:20260425
SUMMARY:Stand-Up Comedy Show ? Die GöRE - Comedyclub in Friedrichshain
END:VEVENT
END:VCALENDAR
