BEGIN:VCALENDAR
VERSION:2.0
PRODID:-//Gratis-in-Berlin//NONSGML kigkonsult.se iCalcreator 2.14//
METHOD:PUBLISH
X-WR-CALNAME:Gratis-in-Berlin Tip Kalender
X-WR-CALDESC:Erhalte Gratis-in-Berlin Tips in deinem Kalender
BEGIN:VEVENT
UID:20260420T130354UTC-4493F5VfP8@Gratis-in-Berlin
DTSTAMP:20260420T130354Z
DESCRIPTION:The Moody Comedy Show is an interactive stand-up experience whe
 re the audience sets the tone! Just like in life\, we all have different m
 oods?happy\, angry\, excited\, or maybe just ?meh??and comedians are no di
 fferent. Each performer will embrace their mood on stage\, delivering joke
 s that match their vibe\, whether they're feeling upbeat\, frustrated\, or
  existential.But that's not all?you get to join in too! Audience members w
 ill write down their mood\, and we'll pull from a hat\, riffing on your em
 otions in real-time. It's a comedy show that evolves with the energy in th
 e room\, making every night unique.This is a pay-at-the-end show\, but res
 ervations are highly recommended. If you arrive with a reservation\, a sin
 gle ticket is ?10. If you arrive without a reservation\, entry at the door
  is ?12 (if seats are available). So book ahead\, bring your mood?whatever
  it is?and let's laugh about it!\n\nViel Spass wünscht Gratis-in-Berlin\n\nLink
  zum Tip: https://www.gratis-in-berlin.de/kalender/item/2071571-moody-come
 dy-showcase\nZu den Gratis-in-Berlin Angeboten: http://www.gratis-in-berli
 n.de\n
DTSTART;VALUE=DATE:20250725
DTEND;VALUE=DATE:20250726
SUMMARY:Moody Comedy Showcase
END:VEVENT
END:VCALENDAR
